BEGIN:VCALENDAR
PRODID:NingEventWidget-v1
VERSION:2.0
METHOD:PUBLISH
BEGIN:VTIMEZONE
TZID:Pacific/Midway
X-LIC-LOCATION:Pacific/Midway
BEGIN:STANDARD
TZOFFSETFROM:-1100
TZOFFSETTO:-1100
TZNAME:SST
DTSTART:19700101T000000
END:STANDARD
END:VTIMEZONE
BEGIN:VEVENT
UID:5072275:Event:1093510
DTSTAMP:20260420T150626Z
SUMMARY:Cruise Nights - Hapeville, Ga
DESCRIPTION:Jess Lucas Park 3585 Atlanta Avenue\n\nFor more informatio
 n visit https://www.southeastwheelsevents.com/events/cruise-nights-hap
 eville-ga-2
DTSTART;TZID=Pacific/Midway:20180908T180000
DTEND;TZID=Pacific/Midway:20180908T210000
CATEGORIES:cruise-in, car, show
LOCATION:Jess Lucas Park,
WEBSITE:http://coffeeandchrome.com
URL:http://coffeeandchrome.com
CONTACT:(678) 883-0809
ORGANIZER:Josh Powell
ATTACH;FMTTYPE="image/jpeg":http://storage.ning.com/topology/rest/1.0/
 file/get/967787542?profile=original
ATTENDEE;ROLE=REQ-PARTICIPANT;PARTSTAT=ACCEPTED;RSVP=TRUE;CN="Anthony 
 Hopkins":https://www.southeastwheelsevents.com/profile/AnthonyHopkins
END:VEVENT
END:VCALENDAR
