BEGIN:VCALENDAR
PRODID:NingEventWidget-v1
VERSION:2.0
METHOD:PUBLISH
BEGIN:VTIMEZONE
TZID:Pacific/Midway
X-LIC-LOCATION:Pacific/Midway
BEGIN:STANDARD
TZOFFSETFROM:-1100
TZOFFSETTO:-1100
TZNAME:SST
DTSTART:19700101T000000
END:STANDARD
END:VTIMEZONE
BEGIN:VEVENT
UID:5072275:Event:1090023
DTSTAMP:20260420T150853Z
SUMMARY:Cruise In - Lebanon, Tn
DESCRIPTION:Cruise In - Lebanon, Tn, K-Mart, 1443 West Main Street.\n\
 nFor more information visit https://www.southeastwheelsevents.com/even
 ts/cruise-nights-lebanon-tn-1
DTSTART;TZID=Pacific/Midway:20180908T180000
DTEND;TZID=Pacific/Midway:20180908T210000
CATEGORIES:car, show
LOCATION:K-Mart
WEBSITE:https://www.google.co.in/maps/place/Kmart/@36.2181613,-86.3327
 57,17z/data=!3m1!4b1!4m5!3m4!1s0x886421fa7832e201:0x9c5fa625fd64c4d6!8
 m2!3d36.2181613!4d-86.3305683
URL:https://www.google.co.in/maps/place/Kmart/@36.2181613,-86.332757,1
 7z/data=!3m1!4b1!4m5!3m4!1s0x886421fa7832e201:0x9c5fa625fd64c4d6!8m2!3
 d36.2181613!4d-86.3305683
CONTACT:(615) 604-3554
ORGANIZER:
ATTACH;FMTTYPE="image/jpeg":http://storage.ning.com/topology/rest/1.0/
 file/get/967782902?profile=original
ATTENDEE;ROLE=REQ-PARTICIPANT;PARTSTAT=ACCEPTED;RSVP=TRUE;CN="Anthony 
 Hopkins":https://www.southeastwheelsevents.com/profile/AnthonyHopkins
END:VEVENT
END:VCALENDAR
