BEGIN:VCALENDAR
PRODID:NingEventWidget-v1
VERSION:2.0
METHOD:PUBLISH
BEGIN:VTIMEZONE
TZID:Pacific/Midway
X-LIC-LOCATION:Pacific/Midway
BEGIN:STANDARD
TZOFFSETFROM:-1100
TZOFFSETTO:-1100
TZNAME:SST
DTSTART:19700101T000000
END:STANDARD
END:VTIMEZONE
BEGIN:VEVENT
UID:5072275:Event:1105840
DTSTAMP:20260425T163804Z
SUMMARY:Father’s Day Car Show -Marietta, GA
DESCRIPTION:Join us for Father’s Day to celebrate all the dads out t
 here with food trucks so you can have a family picnic with the dad, mu
 sic, and the car show with all years, makes, and models are welcome in
 cluding motorcycles after the 9:30AM service with baptism\r\n\n\nFor m
 ore information visit https://www.southeastwheelsevents.com/events/cru
 ise-nights-marietta-ga-5
DTSTART;TZID=Pacific/Midway:20220619T110000
DTEND;TZID=Pacific/Midway:20220619T150000
CATEGORIES:car, show, cruise-in
LOCATION:Piedmont Church
WEBSITE:https://www.facebook.com/events/3257251767844597/?acontext=%7B
 %22event_action_history%22%3A[%7B%22extra_data%22%3A%22%22%2C%22mechan
 ism%22%3A%22unknown%22%2C%22surface%22%3A%22external_search_engine%22%
 7D%2C%7B%22extra_data%22%3A%22%22%2C%22mechanism%22%3A%22search_result
 s%22%2C%22surface%22%3A%22bookmark_search%22%7D%2C%7B%22extra_data%22%
 3A%22%22%2C%22mechanism%22%3A%22your_upcoming_events_unit%22%2C%22surf
 ace%22%3A%22bookmark%22%7D]%2C%22ref_notif_type%22%3Anull%7D
URL:https://www.facebook.com/events/3257251767844597/?acontext=%7B%22e
 vent_action_history%22%3A[%7B%22extra_data%22%3A%22%22%2C%22mechanism%
 22%3A%22unknown%22%2C%22surface%22%3A%22external_search_engine%22%7D%2
 C%7B%22extra_data%22%3A%22%22%2C%22mechanism%22%3A%22search_results%22
 %2C%22surface%22%3A%22bookmark_search%22%7D%2C%7B%22extra_data%22%3A%2
 2%22%2C%22mechanism%22%3A%22your_upcoming_events_unit%22%2C%22surface%
 22%3A%22bookmark%22%7D]%2C%22ref_notif_type%22%3Anull%7D
CONTACT:
ORGANIZER:Piedmont Church
ATTACH;FMTTYPE="image/jpeg":http://storage.ning.com/topology/rest/1.0/
 file/get/967785281?profile=original
ATTENDEE;ROLE=REQ-PARTICIPANT;PARTSTAT=ACCEPTED;RSVP=TRUE;CN="Anthony 
 Hopkins":https://www.southeastwheelsevents.com/profile/AnthonyHopkins
END:VEVENT
END:VCALENDAR
