BEGIN:VCALENDAR
PRODID:NingEventWidget-v1
VERSION:2.0
METHOD:PUBLISH
BEGIN:VTIMEZONE
TZID:Pacific/Midway
X-LIC-LOCATION:Pacific/Midway
BEGIN:STANDARD
TZOFFSETFROM:-1100
TZOFFSETTO:-1100
TZNAME:SST
DTSTART:19700101T000000
END:STANDARD
END:VTIMEZONE
BEGIN:VEVENT
UID:5072275:Event:1115077
DTSTAMP:20260420T144112Z
SUMMARY:Cruise Nights - Maysville, Ga
DESCRIPTION:Downtown\n\nFor more information visit https://www.southea
 stwheelsevents.com/events/cruise-nights-maysville-ga-6
DTSTART;TZID=Pacific/Midway:20190105T180000
DTEND;TZID=Pacific/Midway:20190105T210000
CATEGORIES:car, show, cruise-in
LOCATION:Maysville, Ga
WEBSITE:https://www.google.co.in/maps/place/Maysville,+GA+30558,+USA/@
 34.257746,-83.5877939,13z/data=!3m1!4b1!4m5!3m4!1s0x88f600d377f191ed:0
 xd5ed636eba5b111b!8m2!3d34.2528839!4d-83.5615548
URL:https://www.google.co.in/maps/place/Maysville,+GA+30558,+USA/@34.2
 57746,-83.5877939,13z/data=!3m1!4b1!4m5!3m4!1s0x88f600d377f191ed:0xd5e
 d636eba5b111b!8m2!3d34.2528839!4d-83.5615548
CONTACT:(706)-201-3960
ORGANIZER:Stephen Epps
ATTACH;FMTTYPE="image/jpeg":http://storage.ning.com/topology/rest/1.0/
 file/get/967786463?profile=original
ATTENDEE;ROLE=REQ-PARTICIPANT;PARTSTAT=ACCEPTED;RSVP=TRUE;CN="Anthony 
 Hopkins":https://www.southeastwheelsevents.com/profile/AnthonyHopkins
END:VEVENT
END:VCALENDAR
