BEGIN:VCALENDAR
PRODID:NingEventWidget-v1
VERSION:2.0
METHOD:PUBLISH
BEGIN:VTIMEZONE
TZID:Pacific/Midway
X-LIC-LOCATION:Pacific/Midway
BEGIN:STANDARD
TZOFFSETFROM:-1100
TZOFFSETTO:-1100
TZNAME:SST
DTSTART:19700101T000000
END:STANDARD
END:VTIMEZONE
BEGIN:VEVENT
UID:5072275:Event:1092990
DTSTAMP:20260423T175850Z
SUMMARY:Cruise In – Old Fort, Nc
DESCRIPTION:Hardee’s, Catawba Avenue.\n\nFor more information visit 
 https://www.southeastwheelsevents.com/events/cruise-nights-old-fort-nc
 -3
DTSTART;TZID=Pacific/Midway:20181020T180000
DTEND;TZID=Pacific/Midway:20181020T210000
CATEGORIES:car, show, cruise, in
LOCATION:Hardee’s,
WEBSITE:http://route70cruisers.com
URL:http://route70cruisers.com
CONTACT:(828) 674-8577; (281) 798-4805
ORGANIZER:Janet Spoke, Phillip Poe
ATTACH;FMTTYPE="image/jpeg":http://storage.ning.com/topology/rest/1.0/
 file/get/967785804?profile=original
ATTENDEE;ROLE=REQ-PARTICIPANT;PARTSTAT=ACCEPTED;RSVP=TRUE;CN="Anthony 
 Hopkins":https://www.southeastwheelsevents.com/profile/AnthonyHopkins
END:VEVENT
END:VCALENDAR
