BEGIN:VCALENDAR
PRODID:NingEventWidget-v1
VERSION:2.0
METHOD:PUBLISH
BEGIN:VTIMEZONE
TZID:Pacific/Midway
X-LIC-LOCATION:Pacific/Midway
BEGIN:STANDARD
TZOFFSETFROM:-1100
TZOFFSETTO:-1100
TZNAME:SST
DTSTART:19700101T000000
END:STANDARD
END:VTIMEZONE
BEGIN:VEVENT
UID:5072275:Event:1105861
DTSTAMP:20260424T045219Z
SUMMARY:Cruise In - Rincon, Ga
DESCRIPTION:Arby's\n\nFor more information visit https://www.southeast
 wheelsevents.com/events/cruise-nights-rincon-ga-6
DTSTART;TZID=Pacific/Midway:20181201T180000
DTEND;TZID=Pacific/Midway:20181201T210000
CATEGORIES:car, show, cruise-in
LOCATION:Arby's,
WEBSITE:https://www.google.co.in/maps/place/Arby&amp;amp;amp;amp;#039;
 s/@32.2765907,-81.2311284,17z/data=!3m1!4b1!4m5!3m4!1s0x88fbbc5f8ca852
 f5:0xa40929051657e80!8m2!3d32.2765862!4d-81.2289397
URL:https://www.google.co.in/maps/place/Arby&amp;amp;amp;amp;#039;s/@3
 2.2765907,-81.2311284,17z/data=!3m1!4b1!4m5!3m4!1s0x88fbbc5f8ca852f5:0
 xa40929051657e80!8m2!3d32.2765862!4d-81.2289397
CONTACT:
ORGANIZER:(912) 826-4142
ATTACH;FMTTYPE="image/jpeg":http://storage.ning.com/topology/rest/1.0/
 file/get/967786389?profile=original
ATTENDEE;ROLE=REQ-PARTICIPANT;PARTSTAT=ACCEPTED;RSVP=TRUE;CN="Anthony 
 Hopkins":https://www.southeastwheelsevents.com/profile/AnthonyHopkins
END:VEVENT
END:VCALENDAR
