BEGIN:VCALENDAR
PRODID:NingEventWidget-v1
VERSION:2.0
METHOD:PUBLISH
BEGIN:VTIMEZONE
TZID:Pacific/Midway
X-LIC-LOCATION:Pacific/Midway
BEGIN:STANDARD
TZOFFSETFROM:-1100
TZOFFSETTO:-1100
TZNAME:SST
DTSTART:19700101T000000
END:STANDARD
END:VTIMEZONE
BEGIN:VEVENT
UID:5072275:Event:1092914
DTSTAMP:20260423T084205Z
SUMMARY:Cruise Nights - Social Circle, Ga
DESCRIPTION:Hot Rod's Diner, 208 Village Circle\n\nFor more informatio
 n visit https://www.southeastwheelsevents.com/events/cruise-nights-soc
 ial-circle-ga-1
DTSTART;TZID=Pacific/Midway:20180818T180000
DTEND;TZID=Pacific/Midway:20180818T210000
CATEGORIES:car, show, cruise, in
LOCATION:Hot Rod's Diner
WEBSITE:https://www.google.co.in/maps?q=Hot+Rod%27s+Diner,+208+Village
 +Circle&amp;um=1&amp;ie=UTF-8&amp;sa=X&amp;ved=0ahUKEwiNvL2V66vcAhUR2o
 8KHc-XCTcQ_AUICigB
URL:https://www.google.co.in/maps?q=Hot+Rod%27s+Diner,+208+Village+Cir
 cle&amp;um=1&amp;ie=UTF-8&amp;sa=X&amp;ved=0ahUKEwiNvL2V66vcAhUR2o8KHc
 -XCTcQ_AUICigB
CONTACT:(678) 725-7527
ORGANIZER:Greg Cavender
ATTACH;FMTTYPE="image/jpeg":http://storage.ning.com/topology/rest/1.0/
 file/get/967785870?profile=original
ATTENDEE;ROLE=REQ-PARTICIPANT;PARTSTAT=ACCEPTED;RSVP=TRUE;CN="Anthony 
 Hopkins":https://www.southeastwheelsevents.com/profile/AnthonyHopkins
ATTENDEE;ROLE=REQ-PARTICIPANT;PARTSTAT=TENTATIVE;RSVP=TRUE;CN="Bill Da
 vis":https://www.southeastwheelsevents.com/profile/BillDavis
END:VEVENT
END:VCALENDAR
