BEGIN:VCALENDAR
PRODID:NingEventWidget-v1
VERSION:2.0
METHOD:PUBLISH
BEGIN:VTIMEZONE
TZID:Pacific/Midway
X-LIC-LOCATION:Pacific/Midway
BEGIN:STANDARD
TZOFFSETFROM:-1100
TZOFFSETTO:-1100
TZNAME:SST
DTSTART:19700101T000000
END:STANDARD
END:VTIMEZONE
BEGIN:VEVENT
UID:5072275:Event:1091205
DTSTAMP:20260421T095233Z
SUMMARY:Cruise Nights - WoodStock, Ga
DESCRIPTION:Bojangles, Hwy 92 & Trickum Road\n\nFor more information v
 isit https://www.southeastwheelsevents.com/events/cruise-nights-woodst
 ock-ga-1
DTSTART;TZID=Pacific/Midway:20180810T180000
DTEND;TZID=Pacific/Midway:20180810T210000
CATEGORIES:car, show
LOCATION:Bojangles,
WEBSITE:https://www.google.co.in/maps/place/Bojangles&amp;#039;+Famous
 +Chicken+&amp;#039;n+Biscuits/@34.0872728,-84.4872216,17z/data=!3m1!4b
 1!4m5!3m4!1s0x88f56c4ddbaf0f09:0x862ea942c57f8001!8m2!3d34.0872728!4d-
 84.4850329
URL:https://www.google.co.in/maps/place/Bojangles&amp;#039;+Famous+Chi
 cken+&amp;#039;n+Biscuits/@34.0872728,-84.4872216,17z/data=!3m1!4b1!4m
 5!3m4!1s0x88f56c4ddbaf0f09:0x862ea942c57f8001!8m2!3d34.0872728!4d-84.4
 850329
CONTACT:(770) 715-2984
ORGANIZER:Jim
ATTACH;FMTTYPE="image/jpeg":http://storage.ning.com/topology/rest/1.0/
 file/get/967782840?profile=original
ATTENDEE;ROLE=REQ-PARTICIPANT;PARTSTAT=ACCEPTED;RSVP=TRUE;CN="Anthony 
 Hopkins":https://www.southeastwheelsevents.com/profile/AnthonyHopkins
ATTENDEE;ROLE=REQ-PARTICIPANT;PARTSTAT=TENTATIVE;RSVP=TRUE;CN="Mike Wa
 tchko":https://www.southeastwheelsevents.com/profile/MikeWatchko
END:VEVENT
END:VCALENDAR
