BEGIN:VCALENDAR
PRODID:NingEventWidget-v1
VERSION:2.0
METHOD:PUBLISH
BEGIN:VTIMEZONE
TZID:Pacific/Midway
X-LIC-LOCATION:Pacific/Midway
BEGIN:STANDARD
TZOFFSETFROM:-1100
TZOFFSETTO:-1100
TZNAME:SST
DTSTART:19700101T000000
END:STANDARD
END:VTIMEZONE
BEGIN:VEVENT
UID:5072275:Event:14320
DTSTAMP:20260421T094831Z
SUMMARY:Cruise-In -Alma, Ga
DESCRIPTION:Cruise-In Every 2nd Saturday of the Month - Please call to
  confirm Harley Spires 912-632-5569 or Darrel Blocker 850-682-5090\n\n
 For more information visit https://www.southeastwheelsevents.com/event
 s/cruisein-alma-ga
DTSTART;TZID=Pacific/Midway:20100508T180000
DTEND;TZID=Pacific/Midway:20100508T210000
CATEGORIES:cruise-in
LOCATION:Old Trinity Ford
WEBSITE:
URL:
CONTACT:Harley Spires 912-632-5569 or Darrel Blocker 850-682-5090
ORGANIZER:
ATTACH;FMTTYPE="image/jpeg":
END:VEVENT
END:VCALENDAR
