BEGIN:VCALENDAR
PRODID:NingEventWidget-v1
VERSION:2.0
METHOD:PUBLISH
BEGIN:VTIMEZONE
TZID:Pacific/Midway
X-LIC-LOCATION:Pacific/Midway
BEGIN:STANDARD
TZOFFSETFROM:-1100
TZOFFSETTO:-1100
TZNAME:SST
DTSTART:19700101T000000
END:STANDARD
END:VTIMEZONE
BEGIN:VEVENT
UID:5072275:Event:14322
DTSTAMP:20260422T003238Z
SUMMARY:Cruise-In -Bremen, Ga
DESCRIPTION:Cruise-In - Please call to confirm\nRaymond Priest 770-412
 -0559\n\nFor more information visit https://www.southeastwheelsevents.
 com/events/cruisein-bremen-ga
DTSTART;TZID=Pacific/Midway:20100508T180000
DTEND;TZID=Pacific/Midway:20100508T210000
CATEGORIES:cruise-in
LOCATION:Downtown
WEBSITE:
URL:
CONTACT:Raymond Priest 770-412-0559
ORGANIZER:
ATTACH;FMTTYPE="image/jpeg":
END:VEVENT
END:VCALENDAR
