BEGIN:VCALENDAR
PRODID:NingEventWidget-v1
VERSION:2.0
METHOD:PUBLISH
BEGIN:VTIMEZONE
TZID:Pacific/Midway
X-LIC-LOCATION:Pacific/Midway
BEGIN:STANDARD
TZOFFSETFROM:-1100
TZOFFSETTO:-1100
TZNAME:SST
DTSTART:19700101T000000
END:STANDARD
END:VTIMEZONE
BEGIN:VEVENT
UID:5072275:Event:644700
DTSTAMP:20260423T070116Z
SUMMARY:Cruisin' and Groovin' in Historic Dandridge -Dandridge TN
DESCRIPTION:A fun day of collector and classic cars in the historic to
 wn of Dandridge - Tennessee's 2nd oldest town.  Music, food and prize
 s all day.  Goodie bags for entrants with dash plaques, prize tickets
  and more.  \n\nFor more information visit https://www.southeastwheel
 sevents.com/events/cruisin-and-groovin-in-historic-dandridge
DTSTART;TZID=Pacific/Midway:20150530T090000
DTEND;TZID=Pacific/Midway:20150530T160000
CATEGORIES:car, show
LOCATION:Main & Gay Streets
WEBSITE:http://www.mainstreetdandridge.com/carshow2013.html
URL:http://www.mainstreetdandridge.com/carshow2013.html
CONTACT:865-323-6617
ORGANIZER:Dandridge Community Trust
ATTACH;FMTTYPE="image/jpeg":http://storage.ning.com/topology/rest/1.0/
 file/get/967639076?profile=original
ATTENDEE;ROLE=REQ-PARTICIPANT;PARTSTAT=ACCEPTED;RSVP=TRUE;CN="Susan Fe
 rguson":https://www.southeastwheelsevents.com/profile/SusanFerguson
END:VEVENT
END:VCALENDAR
