BEGIN:VCALENDAR
PRODID:NingEventWidget-v1
VERSION:2.0
METHOD:PUBLISH
BEGIN:VTIMEZONE
TZID:Pacific/Midway
X-LIC-LOCATION:Pacific/Midway
BEGIN:STANDARD
TZOFFSETFROM:-1100
TZOFFSETTO:-1100
TZNAME:SST
DTSTART:19700101T000000
END:STANDARD
END:VTIMEZONE
BEGIN:VEVENT
UID:5072275:Event:528743
DTSTAMP:20260424T142030Z
SUMMARY:Cruisin Cars on the Mountain Rockin' & Rollin' Weekend -Pine M
 ountain, GA
DESCRIPTION:Cruisin Cars on the Mountain Rockin' & Rollin' Weekend -Pi
 ne Mountain, GA\nPine Mountain RVC\n\nFor more information visit https
 ://www.southeastwheelsevents.com/events/cruisin-cars-on-the-mountain-r
 ockin-rollin-weekend-pine-mountain
DTSTART;TZID=Pacific/Midway:20120617T000000
DTEND;TZID=Pacific/Midway:20120617T235900
CATEGORIES:car-show, rock-party
LOCATION:Pine Mountain RVC
WEBSITE:
URL:
CONTACT:706-633-4329
ORGANIZER:Pine Mountain RVC
ATTACH;FMTTYPE="image/jpeg":
ATTENDEE;ROLE=REQ-PARTICIPANT;PARTSTAT=ACCEPTED;RSVP=TRUE;CN="Snitch A
 dams":https://www.southeastwheelsevents.com/profile/SnitchAdams
ATTENDEE;ROLE=REQ-PARTICIPANT;PARTSTAT=ACCEPTED;RSVP=TRUE;CN="Jack Tho
 mas":https://www.southeastwheelsevents.com/profile/JackThomas
END:VEVENT
END:VCALENDAR
