BEGIN:VCALENDAR
PRODID:NingEventWidget-v1
VERSION:2.0
METHOD:PUBLISH
BEGIN:VTIMEZONE
TZID:Pacific/Midway
X-LIC-LOCATION:Pacific/Midway
BEGIN:STANDARD
TZOFFSETFROM:-1100
TZOFFSETTO:-1100
TZNAME:SST
DTSTART:19700101T000000
END:STANDARD
END:VTIMEZONE
BEGIN:VEVENT
UID:5072275:Event:1057334
DTSTAMP:20260423T081811Z
SUMMARY:Cruisin Casar Car Show -Casar, NC
DESCRIPTION:Cruisin Casar Car Show at Casar Park, 137 Deviney Street, 
 10am.-2pm. Info: Sharon Mosses 704-473-5739\n\nFor more information vi
 sit https://www.southeastwheelsevents.com/events/cruisin-casar-car-sho
 w-casar-nc
DTSTART;TZID=Pacific/Midway:20170704T100000
DTEND;TZID=Pacific/Midway:20170704T140000
CATEGORIES:car, show, festival, meet
LOCATION:Casar Park
WEBSITE:
URL:
CONTACT:Sharon Mosses 704-473-5739
ORGANIZER:
ATTACH;FMTTYPE="image/jpeg":http://storage.ning.com/topology/rest/1.0/
 file/get/967742348?profile=original
ATTENDEE;ROLE=REQ-PARTICIPANT;PARTSTAT=ACCEPTED;RSVP=TRUE;CN="Chuck Aa
 ron":https://www.southeastwheelsevents.com/profile/ChuckAaron886
END:VEVENT
END:VCALENDAR
