BEGIN:VCALENDAR
PRODID:NingEventWidget-v1
VERSION:2.0
METHOD:PUBLISH
BEGIN:VTIMEZONE
TZID:Pacific/Midway
X-LIC-LOCATION:Pacific/Midway
BEGIN:STANDARD
TZOFFSETFROM:-1100
TZOFFSETTO:-1100
TZNAME:SST
DTSTART:19700101T000000
END:STANDARD
END:VTIMEZONE
BEGIN:VEVENT
UID:5072275:Event:833061
DTSTAMP:20260425T061102Z
SUMMARY:CRUISIN' COMMERCE -Commerce, GA
DESCRIPTION:The Annual Cruisin' Commerce car show\r\n\r\nThere will be
  music, food  and kids choice awards. \n\nFor more information visit
  https://www.southeastwheelsevents.com/events/cruisin-commerce-1
DTSTART;TZID=Pacific/Midway:20230910T130000
DTEND;TZID=Pacific/Midway:20230910T160000
CATEGORIES:car, show
LOCATION:Historic Downtown
WEBSITE:https://festivalnet.com/96005/Commerce-Georgia/Vintages/Cruisi
 n-Commerce
URL:https://festivalnet.com/96005/Commerce-Georgia/Vintages/Cruisin-Co
 mmerce
CONTACT:Natalie 706-335-1899
ORGANIZER;CN="Commerce DDA":https://www.southeastwheelsevents.com/prof
 ile/CommerceDDA
ATTACH;FMTTYPE="image/jpeg":https://storage.ning.com/topology/rest/1.0
 /file/get/12219340493?profile=original
ATTENDEE;ROLE=REQ-PARTICIPANT;PARTSTAT=ACCEPTED;RSVP=TRUE;CN="Commerce
  DDA":https://www.southeastwheelsevents.com/profile/CommerceDDA
ATTENDEE;ROLE=REQ-PARTICIPANT;PARTSTAT=ACCEPTED;RSVP=TRUE;CN="James Ar
 wood":https://www.southeastwheelsevents.com/profile/JamesArwood
END:VEVENT
END:VCALENDAR
