BEGIN:VCALENDAR
PRODID:NingEventWidget-v1
VERSION:2.0
METHOD:PUBLISH
BEGIN:VTIMEZONE
TZID:Pacific/Midway
X-LIC-LOCATION:Pacific/Midway
BEGIN:STANDARD
TZOFFSETFROM:-1100
TZOFFSETTO:-1100
TZNAME:SST
DTSTART:19700101T000000
END:STANDARD
END:VTIMEZONE
BEGIN:VEVENT
UID:5072275:Event:812493
DTSTAMP:20260423T013925Z
SUMMARY:Cruisin' Dalton Cruise-In -Dalton, GA
DESCRIPTION:Cruise-In will be the 1st Saturday of the month from March
 -November. The first Cruise-In will be Saturday March 1st 2014 at Trac
 tor Supply in Dalton, Georgia. The time will be 3:00 p.m. to ?  All C
 ars, Trucks & Bikes Welcome! For more information contact Frank Davis 
 at (706) 537-3191\n\nFor more information visit https://www.southeastw
 heelsevents.com/events/cruisin-dalton-cruise-in-dalton-ga-1
DTSTART;TZID=Pacific/Midway:20141101T150000
DTEND;TZID=Pacific/Midway:20141101T210000
CATEGORIES:cruise-in
LOCATION:Tractor Supply
WEBSITE:
URL:
CONTACT:(706) 537-3191
ORGANIZER:Frank Davis
ATTACH;FMTTYPE="image/jpeg":http://storage.ning.com/topology/rest/1.0/
 file/get/967657289?profile=original
ATTENDEE;ROLE=REQ-PARTICIPANT;PARTSTAT=ACCEPTED;RSVP=TRUE;CN="Chuck Aa
 ron":https://www.southeastwheelsevents.com/profile/ChuckAaron
END:VEVENT
END:VCALENDAR
