BEGIN:VCALENDAR
PRODID:NingEventWidget-v1
VERSION:2.0
METHOD:PUBLISH
BEGIN:VTIMEZONE
TZID:Pacific/Midway
X-LIC-LOCATION:Pacific/Midway
BEGIN:STANDARD
TZOFFSETFROM:-1100
TZOFFSETTO:-1100
TZNAME:SST
DTSTART:19700101T000000
END:STANDARD
END:VTIMEZONE
BEGIN:VEVENT
UID:5072275:Event:1034746
DTSTAMP:20260423T143949Z
SUMMARY:CRUISIN FOR A CURE Car & Bike Show
DESCRIPTION:CRUISIN FOR A CURE Car & Bike Show to benefit Breast Cance
 r Awareness on Sunday, April 30 from 1:00 to 4:30 at The Varsity in At
 hens GA (1000 West Broad St.).  Best of Show, Best Bike and Top Ten a
 wards, plus most “Pinked Out” award.  $10 donation to enter a car
 /bike - other donations welcomed!  ‘Cruizin to the Oldies,’ vendo
 rs, great door prizes, 50/50, lots more!  Sponsored by Easy L Quarter
  Horses.  For more information call (706)201-6724 or email gotemtalki
 n@bellsouth.net\nhttps://www.facebook.com/groups/277841275619320/\n\n\
 nFor more information visit https://www.southeastwheelsevents.com/even
 ts/cruisin-for-a-cure-car-bike-show-4
DTSTART;TZID=Pacific/Midway:20170430T130000
DTEND;TZID=Pacific/Midway:20170430T163000
CATEGORIES:car, show
LOCATION:The Varsity
WEBSITE:https://www.facebook.com/groups/277841275619320/
URL:https://www.facebook.com/groups/277841275619320/
CONTACT:7062016724
ORGANIZER;CN="Lisa Lee":https://www.southeastwheelsevents.com/profile/
 LisaLee
ATTACH;FMTTYPE="image/jpeg":http://storage.ning.com/topology/rest/1.0/
 file/get/967738168?profile=original
ATTENDEE;ROLE=REQ-PARTICIPANT;PARTSTAT=ACCEPTED;RSVP=TRUE;CN="Lisa Lee
 ":https://www.southeastwheelsevents.com/profile/LisaLee
ATTENDEE;ROLE=REQ-PARTICIPANT;PARTSTAT=TENTATIVE;RSVP=TRUE;CN="John Ba
 ker":https://www.southeastwheelsevents.com/profile/JohnJBaker
END:VEVENT
END:VCALENDAR
