BEGIN:VCALENDAR
PRODID:NingEventWidget-v1
VERSION:2.0
METHOD:PUBLISH
BEGIN:VTIMEZONE
TZID:Pacific/Midway
X-LIC-LOCATION:Pacific/Midway
BEGIN:STANDARD
TZOFFSETFROM:-1100
TZOFFSETTO:-1100
TZNAME:SST
DTSTART:19700101T000000
END:STANDARD
END:VTIMEZONE
BEGIN:VEVENT
UID:5072275:Event:969799
DTSTAMP:20260420T183609Z
SUMMARY:Cruisin' For A Cure Car Show - Earl Duncan Park at Paulding Me
 adows - Dallas Georgia
DESCRIPTION:Cruisin' For A Cure Car Show\nHosted By: The Cancer Crusad
 ers Paulding Relay for Life\nSaturday June 4th\nLocation : Earl Duncan
  Park at Paulding Meadows\nRegistration 9am to 11am\nAward Ceremony at
  3pm\nRegistration $20\nFREE for Spectators\n50/50 Raffle, Music, Craf
 t Vendors, Food & Drink\nProceeds to benefit American Cancer Society\n
 Contact us at cruisingforacure442@yahoo.com\n\nFor more information vi
 sit https://www.southeastwheelsevents.com/events/cruisin-for-a-cure-ca
 r-show-earl-duncan-park-at-paulding-meadows
DTSTART;TZID=Pacific/Midway:20160604T090000
DTEND;TZID=Pacific/Midway:20160604T160000
CATEGORIES:car, show, fund, raiser
LOCATION:Earl Duncan Park at Paulding Meadows
WEBSITE:
URL:
CONTACT:
ORGANIZER;CN="Shelly Roberts":https://www.southeastwheelsevents.com/pr
 ofile/ShellyRoberts
ATTACH;FMTTYPE="image/jpeg":http://storage.ning.com/topology/rest/1.0/
 file/get/967707761?profile=original
ATTENDEE;ROLE=REQ-PARTICIPANT;PARTSTAT=ACCEPTED;RSVP=TRUE;CN="Shelly R
 oberts":https://www.southeastwheelsevents.com/profile/ShellyRoberts
ATTENDEE;ROLE=REQ-PARTICIPANT;PARTSTAT=ACCEPTED;RSVP=TRUE;CN="Joe Fots
 chky":https://www.southeastwheelsevents.com/profile/JoeFotschky
END:VEVENT
END:VCALENDAR
