BEGIN:VCALENDAR
PRODID:NingEventWidget-v1
VERSION:2.0
METHOD:PUBLISH
BEGIN:VTIMEZONE
TZID:Pacific/Midway
X-LIC-LOCATION:Pacific/Midway
BEGIN:STANDARD
TZOFFSETFROM:-1100
TZOFFSETTO:-1100
TZNAME:SST
DTSTART:19700101T000000
END:STANDARD
END:VTIMEZONE
BEGIN:VEVENT
UID:5072275:Event:1193856
DTSTAMP:20260423T083405Z
SUMMARY:Cruisin the Beach
DESCRIPTION:Open car show with DJ , Trophy's , vendors new and used. V
 endors welcome. Any questions please ask . Like and share and like us 
 on FACEBOOK  Cruisin the Beach.\n\nFor more information visit https:/
 /www.southeastwheelsevents.com/events/cruisin-the-beach-4
DTSTART;TZID=Pacific/Midway:20201008T080000
DTEND;TZID=Pacific/Midway:20201010T160000
CATEGORIES:open, car, show
LOCATION:Broadway at the Beach
WEBSITE:http://www.cruisinthebeach.com
URL:http://www.cruisinthebeach.com
CONTACT:423-608-4519
ORGANIZER;CN="rodney buckner":https://www.southeastwheelsevents.com/pr
 ofile/rodneybuckner
ATTACH;FMTTYPE="image/jpeg":https://storage.ning.com/topology/rest/1.0
 /file/get/4567874901?profile=original
ATTENDEE;ROLE=REQ-PARTICIPANT;PARTSTAT=ACCEPTED;RSVP=TRUE;CN="rodney b
 uckner":https://www.southeastwheelsevents.com/profile/rodneybuckner
END:VEVENT
END:VCALENDAR
