BEGIN:VCALENDAR
PRODID:NingEventWidget-v1
VERSION:2.0
METHOD:PUBLISH
BEGIN:VTIMEZONE
TZID:Pacific/Midway
X-LIC-LOCATION:Pacific/Midway
BEGIN:STANDARD
TZOFFSETFROM:-1100
TZOFFSETTO:-1100
TZNAME:SST
DTSTART:19700101T000000
END:STANDARD
END:VTIMEZONE
BEGIN:VEVENT
UID:5072275:Event:576116
DTSTAMP:20260421T031355Z
SUMMARY:Cruisin' The Coast -Biloxi, MS
DESCRIPTION:\n\n\n\n\nCruise Central/Registration Desk:  200 Beach Bl
 vd., Gulfport2 miles East of Highway 49 or West of Courthouse Road on 
 northside of Hwy 90\nMississippi Coast Coliseum, where our Swap Meet i
 s held.(Not a stamping site.)\nOcean Springs in the Downtown area\nEdg
 ewater Mall parking area on the west side of the Mall\nBay St. Louis i
 n the Downtown area\nD'Iberville Municipal Complex off Auto Mall Parkw
 ay\nPass Christian\n\n \n\nEntry into Cruisin' Venues\nOnly Registere
 d Cruisers may drive into and park in the different Venues.  In your 
 registration packet is your Window ID Card-this is your entry into th
 e site (not the decal).  As soon as you get your Window ID Card, pl
 ace the card in the windshield, on the dash or on the sun visor for th
 e rest of your visit so you can enter the Venues as many times as you 
 wish.\nSpecators are welcome to come to our venues to see the beautifu
 l cars, enjoy the bands, etc.  You will have to park off the site and
  walk in to take part.  There is no admittance fee for the venues, th
 ere is a fee for the Swap Meet.\nStamping Cards for Sunday's Drawings\
 nIn your registration packet will be your Stamping Card.  As you vis
 it the sites you will need to get your card stamped and then when you 
 have the five required stamps turn it in at the last stamping site. O
 n Sunday, at Cruise Central there will be a drawing of 35 of the stamp
 ing cards for $500 each, so don't forget your stamping card.\nSite Hou
 rs of Operation\nCruise Central/Registration Desk:\n\nMonday from 11 a
 .m. to 5 p.m.\nTuesday to Friday:  2013 Registration from 9 a.m. to 5
  p.m.\nThursday Noon to 5:00 p.m.:  2014 Registration begins\nFriday 
 9 a.m. to 5 p.m. 2013 and 2014 Registration open.\nSaturday 9 a.m.-Noo
 n for 2013 registration and 9 a.m.-5 p.m. for 2014 registration\nSunda
 y from 8 a.m. to Noon (for 2014 registration only)\n\nVenues:  Ocean 
 Springs, D'Iberville, Edgewater Mall, Pass Christian, Bay St. Louis\n\
 nThursday to Saturday from 9 a.m. to 5 p.m.\n\nThe run is approximatel
 y 29 miles long on Hwy 90.\nPrize Drawings on Sunday, Oct. 13, 2013. 
  Stamped cards may be turned in where you get your last stamp.  If y
 ou don't turn in your card at the last stamping site, you must turn in
  your stamped card at Cruise Central, Gulfport before 9 a.m. Sunday, 
 Oct. 13, 2013 to be in the drawing. \n\n\n\n\n\nFor more information 
 visit https://www.southeastwheelsevents.com/events/cruisin-the-coast-b
 iloxi-ms
DTSTART;TZID=Pacific/Midway:20131006T000000
DTEND;TZID=Pacific/Midway:20131013T235900
CATEGORIES:car-show, auction, swap-meet
LOCATION:Cruise Central/Registration Desk
WEBSITE:http://cruisinthecoast.com
URL:http://cruisinthecoast.com
CONTACT:888-808-1188
ORGANIZER:Cruisn' The Coast
ATTACH;FMTTYPE="image/jpeg":http://storage.ning.com/topology/rest/1.0/
 file/get/967626858?profile=original
ATTENDEE;ROLE=REQ-PARTICIPANT;PARTSTAT=ACCEPTED;RSVP=TRUE;CN="Michael 
 Thies":https://www.southeastwheelsevents.com/profile/MichaelThies
END:VEVENT
END:VCALENDAR
