BEGIN:VCALENDAR
PRODID:NingEventWidget-v1
VERSION:2.0
METHOD:PUBLISH
BEGIN:VTIMEZONE
TZID:Pacific/Midway
X-LIC-LOCATION:Pacific/Midway
BEGIN:STANDARD
TZOFFSETFROM:-1100
TZOFFSETTO:-1100
TZNAME:SST
DTSTART:19700101T000000
END:STANDARD
END:VTIMEZONE
BEGIN:VEVENT
UID:5072275:Event:214959
DTSTAMP:20260420T193144Z
SUMMARY:Cruising for a Cure V -Denver, NC
DESCRIPTION:Car, Truck, Motorcycle Show.  Proceeds to Relay for LIfe 
 and the American Cancer Society,  This is a Rain or Shine Show. $20 R
 egistration/donation, more than one vehicle to show the second, third 
 or fourth you own is $10 each.  Chance Drawing Prizes, and 50/50.  F
 ood for sale also benefits Relay and we will have some vendors onsite.
 \nGoodie Bags and Dash Plaques to the first 50, chance to win a top 40
 ,  One peoples choice will be voted on by $$\n \n\nFor more informat
 ion visit https://www.southeastwheelsevents.com/events/cruising-for-a-
 cure-v-denver
DTSTART;TZID=Pacific/Midway:20140531T090000
DTEND;TZID=Pacific/Midway:20140531T140000
CATEGORIES:car, show, fundraiser, for, relay, life
LOCATION:Denver United Methodist Church- Denver NC
WEBSITE:http://www.cruisingforacure.info
URL:http://www.cruisingforacure.info
CONTACT:704-609-9953
ORGANIZER;CN="Anne Willis":https://www.southeastwheelsevents.com/profi
 le/AnneWillis
ATTACH;FMTTYPE="image/jpeg":http://storage.ning.com/topology/rest/1.0/
 file/get/967589907?profile=original
ATTENDEE;ROLE=REQ-PARTICIPANT;PARTSTAT=ACCEPTED;RSVP=TRUE;CN="Anne Wil
 lis":https://www.southeastwheelsevents.com/profile/AnneWillis
ATTENDEE;ROLE=REQ-PARTICIPANT;PARTSTAT=TENTATIVE;RSVP=TRUE;CN="Chuck A
 aron":https://www.southeastwheelsevents.com/profile/ChuckAaron
END:VEVENT
END:VCALENDAR
