BEGIN:VCALENDAR
PRODID:NingEventWidget-v1
VERSION:2.0
METHOD:PUBLISH
BEGIN:VTIMEZONE
TZID:Pacific/Midway
X-LIC-LOCATION:Pacific/Midway
BEGIN:STANDARD
TZOFFSETFROM:-1100
TZOFFSETTO:-1100
TZNAME:SST
DTSTART:19700101T000000
END:STANDARD
END:VTIMEZONE
BEGIN:VEVENT
UID:5072275:Event:1171927
DTSTAMP:20260424T012452Z
SUMMARY:Cruisn' Against Prostate Cancer
DESCRIPTION:Car show for all years, makes, models, cars, trucks & moto
 rcycles. Top 40 awards, 50/50, door prizes, DJ, food, vendors. To bene
 fit The Prostate Cancer foundation. $10.00 registration day of show.\n
 \nFor more information visit https://www.southeastwheelsevents.com/eve
 nts/cruisn-against-prostate-cancer
DTSTART;TZID=Pacific/Midway:20191116T100000
DTEND;TZID=Pacific/Midway:20191116T150000
CATEGORIES:benefit, car, show
LOCATION:Quaker Steak &amp; Lube
WEBSITE:http://http//thelube.com/locations/florida/pinellas-park-clear
 water/
URL:http://http//thelube.com/locations/florida/pinellas-park-clearwate
 r/
CONTACT:
ORGANIZER:Angela Recchia
ATTACH;FMTTYPE="image/jpeg":https://storage.ning.com/topology/rest/1.0
 /file/get/3152562065?profile=original
ATTENDEE;ROLE=REQ-PARTICIPANT;PARTSTAT=ACCEPTED;RSVP=TRUE;CN="Larry Br
 oga":https://www.southeastwheelsevents.com/profile/LarryBroga
END:VEVENT
END:VCALENDAR
