BEGIN:VCALENDAR
PRODID:NingEventWidget-v1
VERSION:2.0
METHOD:PUBLISH
BEGIN:VTIMEZONE
TZID:Pacific/Midway
X-LIC-LOCATION:Pacific/Midway
BEGIN:STANDARD
TZOFFSETFROM:-1100
TZOFFSETTO:-1100
TZNAME:SST
DTSTART:19700101T000000
END:STANDARD
END:VTIMEZONE
BEGIN:VEVENT
UID:5072275:Event:624694
DTSTAMP:20260423T135323Z
SUMMARY:Cruisn' Thursday w/Wheels Events Radio Hour -Buford, GA
DESCRIPTION:\n\nGreat Cruise-in for all cool vehicles - Bike & Cars & 
 Trucks!\nGreat folks and pizza, too! Plenty of spaces for parking & me
 eting. Bring the whole club! Bring the whole family!\nGARAGE 71 STUDIO
  at the Tannery in Buford, GA\n\nFor more information visit https://ww
 w.southeastwheelsevents.com/events/cruisn-thursday-buford-ga-4
DTSTART;TZID=Pacific/Midway:20130418T190000
DTEND;TZID=Pacific/Midway:20130418T220000
CATEGORIES:cruise-in
LOCATION:Garage 71 Studio
WEBSITE:http://www.Garage71.com
URL:http://www.Garage71.com
CONTACT:678-457-3070
ORGANIZER:Hot Pan Productions
ATTACH;FMTTYPE="image/jpeg":http://storage.ning.com/topology/rest/1.0/
 file/get/967634313?profile=original
ATTENDEE;ROLE=REQ-PARTICIPANT;PARTSTAT=ACCEPTED;RSVP=TRUE;CN="Michael 
 Thies":https://www.southeastwheelsevents.com/profile/MichaelThies
END:VEVENT
END:VCALENDAR
