BEGIN:VCALENDAR
PRODID:NingEventWidget-v1
VERSION:2.0
METHOD:PUBLISH
BEGIN:VTIMEZONE
TZID:Pacific/Midway
X-LIC-LOCATION:Pacific/Midway
BEGIN:STANDARD
TZOFFSETFROM:-1100
TZOFFSETTO:-1100
TZNAME:SST
DTSTART:19700101T000000
END:STANDARD
END:VTIMEZONE
BEGIN:VEVENT
UID:5072275:Event:1257711
DTSTAMP:20260420T224729Z
SUMMARY:Crusin’ for Coco’s Cupboard Car Show
DESCRIPTION:\n\nFor more information visit https://www.southeastwheels
 events.com/events/crusin-for-coco-s-cupboard-car-show
DTSTART;TZID=Pacific/Midway:20240907T100000
DTEND;TZID=Pacific/Midway:20240907T140000
CATEGORIES:car, show, fundraiser
LOCATION:Trilith
WEBSITE:https://www.cocoscupboardinc.org/carshow/
URL:https://www.cocoscupboardinc.org/carshow/
CONTACT:4047310905
ORGANIZER;CN="Luana Cliche":https://www.southeastwheelsevents.com/prof
 ile/LuanaCliche
ATTACH;FMTTYPE="image/jpeg":https://storage.ning.com/topology/rest/1.0
 /file/get/12670013890?profile=original
ATTENDEE;ROLE=REQ-PARTICIPANT;PARTSTAT=ACCEPTED;RSVP=TRUE;CN="Luana Cl
 iche":https://www.southeastwheelsevents.com/profile/LuanaCliche
END:VEVENT
END:VCALENDAR
