BEGIN:VCALENDAR
PRODID:NingEventWidget-v1
VERSION:2.0
METHOD:PUBLISH
BEGIN:VTIMEZONE
TZID:Pacific/Midway
X-LIC-LOCATION:Pacific/Midway
BEGIN:STANDARD
TZOFFSETFROM:-1100
TZOFFSETTO:-1100
TZNAME:SST
DTSTART:19700101T000000
END:STANDARD
END:VTIMEZONE
BEGIN:VEVENT
UID:5072275:Event:1063580
DTSTAMP:20260419T171713Z
SUMMARY:Cruz-In for Hospice
DESCRIPTION:Fundraiser for Hospice\n\nFor more information visit https
 ://www.southeastwheelsevents.com/events/cruz-in-for-hospice
DTSTART;TZID=Pacific/Midway:20170905T090000
DTEND;TZID=Pacific/Midway:20170905T160000
CATEGORIES:fundraiser
LOCATION:Downtown
WEBSITE:http://www.rodbusterswnc.com
URL:http://www.rodbusterswnc.com
CONTACT:1-828-467-1999
ORGANIZER;CN="Jim Nowak":https://www.southeastwheelsevents.com/profile
 /JimNowak
ATTACH;FMTTYPE="image/jpeg":
ATTENDEE;ROLE=REQ-PARTICIPANT;PARTSTAT=ACCEPTED;RSVP=TRUE;CN="Jim Nowa
 k":https://www.southeastwheelsevents.com/profile/JimNowak
END:VEVENT
END:VCALENDAR
