BEGIN:VCALENDAR
PRODID:NingEventWidget-v1
VERSION:2.0
METHOD:PUBLISH
BEGIN:VTIMEZONE
TZID:Pacific/Midway
X-LIC-LOCATION:Pacific/Midway
BEGIN:STANDARD
TZOFFSETFROM:-1100
TZOFFSETTO:-1100
TZNAME:SST
DTSTART:19700101T000000
END:STANDARD
END:VTIMEZONE
BEGIN:VEVENT
UID:5072275:Event:504802
DTSTAMP:20260424T111037Z
SUMMARY:Cruzin for a cure, mcdonough ga
DESCRIPTION:Car show to benefit the Susan G. Komen 3 day breast cancer
  walk.  Trophies, door prizes, raffles, musis and much more\n\nFor mo
 re information visit https://www.southeastwheelsevents.com/events/cruz
 in-for-a-cure-mcdonough-ga
DTSTART;TZID=Pacific/Midway:20120505T110000
DTEND;TZID=Pacific/Midway:20120505T180000
CATEGORIES:fundraiser
LOCATION:Graffitti's Pizza
WEBSITE:
URL:
CONTACT:678 898 7720
ORGANIZER;CN="dana hall":https://www.southeastwheelsevents.com/profile
 /danahall
ATTACH;FMTTYPE="image/jpeg":
ATTENDEE;ROLE=REQ-PARTICIPANT;PARTSTAT=ACCEPTED;RSVP=TRUE;CN="dana hal
 l":https://www.southeastwheelsevents.com/profile/danahall
END:VEVENT
END:VCALENDAR
