BEGIN:VCALENDAR
PRODID:NingEventWidget-v1
VERSION:2.0
METHOD:PUBLISH
BEGIN:VTIMEZONE
TZID:Pacific/Midway
X-LIC-LOCATION:Pacific/Midway
BEGIN:STANDARD
TZOFFSETFROM:-1100
TZOFFSETTO:-1100
TZNAME:SST
DTSTART:19700101T000000
END:STANDARD
END:VTIMEZONE
BEGIN:VEVENT
UID:5072275:Event:1032737
DTSTAMP:20260420T092742Z
SUMMARY:Cruzin in the Park
DESCRIPTION:Open to all Collector Vehicles Free to all\n\nFor more inf
 ormation visit https://www.southeastwheelsevents.com/events/cruzin-in-
 the-park
DTSTART;TZID=Pacific/Midway:20170528T130000
DTEND;TZID=Pacific/Midway:20170528T160000
CATEGORIES:cruise, in
LOCATION:Rawlings-Stinson Park
WEBSITE:
URL:
CONTACT:6065992413
ORGANIZER;CN="Jack Roberts":https://www.southeastwheelsevents.com/prof
 ile/JackRoberts
ATTACH;FMTTYPE="image/jpeg":http://storage.ning.com/topology/rest/1.0/
 file/get/967732496?profile=original
ATTENDEE;ROLE=REQ-PARTICIPANT;PARTSTAT=ACCEPTED;RSVP=TRUE;CN="Jack Rob
 erts":https://www.southeastwheelsevents.com/profile/JackRoberts
END:VEVENT
END:VCALENDAR
