BEGIN:VCALENDAR
PRODID:NingEventWidget-v1
VERSION:2.0
METHOD:PUBLISH
BEGIN:VTIMEZONE
TZID:Pacific/Midway
X-LIC-LOCATION:Pacific/Midway
BEGIN:STANDARD
TZOFFSETFROM:-1100
TZOFFSETTO:-1100
TZNAME:SST
DTSTART:19700101T000000
END:STANDARD
END:VTIMEZONE
BEGIN:VEVENT
UID:5072275:Event:1096555
DTSTAMP:20260422T173616Z
SUMMARY:Cruzin' On Main - Seneca, Sc
DESCRIPTION:All vehicles are welcome 1st 100 cars to register get free
  t-shirt after the 1st 100 they are $5 each 50/50 and door prizes. Fre
 e registration so come up to table in the covered area.\n\nFor more in
 formation visit https://www.southeastwheelsevents.com/events/cruzin-on
 -main-seneca-sc-9
DTSTART;TZID=Pacific/Midway:20181006T160000
DTEND;TZID=Pacific/Midway:20181006T200000
CATEGORIES:car, show, cruise, in
LOCATION:Seneca, Sc
WEBSITE:
URL:
CONTACT:864-247-8816
ORGANIZER:
ATTACH;FMTTYPE="image/jpeg":http://storage.ning.com/topology/rest/1.0/
 file/get/967791966?profile=original
ATTENDEE;ROLE=REQ-PARTICIPANT;PARTSTAT=ACCEPTED;RSVP=TRUE;CN="Anthony 
 Hopkins":https://www.southeastwheelsevents.com/profile/AnthonyHopkins
END:VEVENT
END:VCALENDAR
