BEGIN:VCALENDAR
PRODID:NingEventWidget-v1
VERSION:2.0
METHOD:PUBLISH
BEGIN:VTIMEZONE
TZID:Pacific/Midway
X-LIC-LOCATION:Pacific/Midway
BEGIN:STANDARD
TZOFFSETFROM:-1100
TZOFFSETTO:-1100
TZNAME:SST
DTSTART:19700101T000000
END:STANDARD
END:VTIMEZONE
BEGIN:VEVENT
UID:5072275:Event:1028023
DTSTAMP:20260421T055124Z
SUMMARY:CTI Season Line-up Covington - Evaporative Emissions Systems: 
 Asian Import Diagnosis - Day 1 of 2
DESCRIPTION:CTI Season Line-up Covington - Evaporative Emissions Syste
 ms: Asian Import Diagnosis will be held at Mandeville Community Center
 , Mandeville, LA. The course covers the operation and diagnosis of mod
 em Asian import evaporative emission systems. Vehicle makes covered in
 clude Toyota, Honda, Nissan and Mazda. Through the years, leak detecti
 on strategies used by these manufacturers have transitioned from split
 , vacuum-based leak detection to engine-off, natural vacuum (EONV) lea
 k detection. Each strategy uses unique hardware and diagnostic methods
 . Technicians will gain valuable knowledge about how these systems rea
 lly work, as well as practical testing techniques which can be used im
 mediately to improve diagnostic efficiency. The course emphasizes the 
 effective use of scan tool data and bidirectional controls to diagnose
  EVAP problems. Course starts at 6.00pm and ends at 10.00pm.\n\nFor mo
 re information visit https://www.southeastwheelsevents.com/events/cti-
 season-line-up-covington-evaporative-emissions-systems-asian
DTSTART;TZID=Pacific/Midway:20170220T180000
DTEND;TZID=Pacific/Midway:20170220T220000
CATEGORIES:business, auto, "body/paint", "education/schools", "mechani
 cal/service"
LOCATION:Mandeville Community Center
WEBSITE:http://www.ctionline.com/index.php/cti-instructor-led-class-sc
 hedule.html
URL:http://www.ctionline.com/index.php/cti-instructor-led-class-schedu
 le.html
CONTACT:
ORGANIZER:CARQUEST Technical Institute
ATTACH;FMTTYPE="image/jpeg":http://storage.ning.com/topology/rest/1.0/
 file/get/967726865?profile=original
ATTENDEE;ROLE=REQ-PARTICIPANT;PARTSTAT=ACCEPTED;RSVP=TRUE;CN="Chris go
 sney":https://www.southeastwheelsevents.com/profile/Chrisgosney
END:VEVENT
END:VCALENDAR
