BEGIN:VCALENDAR
PRODID:NingEventWidget-v1
VERSION:2.0
METHOD:PUBLISH
BEGIN:VTIMEZONE
TZID:Pacific/Midway
X-LIC-LOCATION:Pacific/Midway
BEGIN:STANDARD
TZOFFSETFROM:-1100
TZOFFSETTO:-1100
TZNAME:SST
DTSTART:19700101T000000
END:STANDARD
END:VTIMEZONE
BEGIN:VEVENT
UID:5072275:Event:1027414
DTSTAMP:20260424T081350Z
SUMMARY:CTI Season Line-up Fort Walton Beach - Practical Application o
 f Domestic OE Schematics
DESCRIPTION:CTI Season Line-up Fort Walton Beach - Practical Applicati
 on of Domestic OE Schematics will be held at CARQUEST Auto Parts, Fort
  Walton Beach, FL. When a simplified wiring schematic doesn't provide 
 the necessary diagnostic information, access to the added features of 
 OE wiring diagrams can help save valuable diagnostic time. Learn how t
 o access wiring information directly from the vehicle manufacturer as 
 well as through aftermarket information systems. Added features includ
 e web based hyperlinks to connector views and component locations, pho
 tographs to help identify components, and automatic links to associate
 d diagrams. The class will show the use these added features to effect
 ively diagnose circuit problems Explore the unique formats of each OEs
  schematics system. See advanced testing techniques applied to specifi
 c vehicle problems and participate during in-class diagnostic challeng
 es. Course starts at 6.00pm and ends at 10.00pm.\n\nFor more informati
 on visit https://www.southeastwheelsevents.com/events/cti-season-line-
 up-fort-walton-beach-practical-application-of
DTSTART;TZID=Pacific/Midway:20170112T180000
DTEND;TZID=Pacific/Midway:20170112T220000
CATEGORIES:business, auto, "body/paint", "education/schools", "mechani
 cal/service"
LOCATION:CARQUEST Auto Parts
WEBSITE:http://www.ctionline.com/index.php/cti-instructor-led-class-sc
 hedule.html
URL:http://www.ctionline.com/index.php/cti-instructor-led-class-schedu
 le.html
CONTACT:
ORGANIZER:CARQUEST Technical Institute
ATTACH;FMTTYPE="image/jpeg":http://storage.ning.com/topology/rest/1.0/
 file/get/967726095?profile=original
ATTENDEE;ROLE=REQ-PARTICIPANT;PARTSTAT=ACCEPTED;RSVP=TRUE;CN="Chris go
 sney":https://www.southeastwheelsevents.com/profile/Chrisgosney
END:VEVENT
END:VCALENDAR
