BEGIN:VCALENDAR
PRODID:NingEventWidget-v1
VERSION:2.0
METHOD:PUBLISH
BEGIN:VTIMEZONE
TZID:Pacific/Midway
X-LIC-LOCATION:Pacific/Midway
BEGIN:STANDARD
TZOFFSETFROM:-1100
TZOFFSETTO:-1100
TZNAME:SST
DTSTART:19700101T000000
END:STANDARD
END:VTIMEZONE
BEGIN:VEVENT
UID:5072275:Event:1027726
DTSTAMP:20260421T214527Z
SUMMARY:CTI Season Line-up Memphis - Antilock Brake & Stability Contro
 l Operation - Day 1 of 2
DESCRIPTION:CTI Season Line-up Memphis - Antilock Brake & Stability Co
 ntrol Operation & Diagnosis will be held at CARQUEST Auto Parts, Memph
 is, TN. The class will present the operation and diagnosis of integrat
 ed Antilock Brake System/Stability systems technology being used in ve
 hicles today. Class content will include improvements made to previous
  systems, operational changes and advancements to components used in t
 oday's production vehicles. Upon completion, technicians will be prepa
 red for diagnosis and repair of federally mandated ABS and stability c
 ontrol systems. The history and purpose of stability control along wit
 h current developments `In stability system technology will be emphasi
 zed. Diagnostic procedures will include the use of scan tool data, DVO
 M testing and oscilloscope techniques. Course starts at 6.00pm and end
 s at 10.00pm.\n\nFor more information visit https://www.southeastwheel
 sevents.com/events/cti-season-line-up-memphis-antilock-brake-stability
 -control
DTSTART;TZID=Pacific/Midway:20170116T180000
DTEND;TZID=Pacific/Midway:20170116T220000
CATEGORIES:business, auto, "body/paint", "education/schools", "mechani
 cal/service"
LOCATION:CARQUEST Auto Parts
WEBSITE:http://www.ctionline.com/index.php/cti-instructor-led-class-sc
 hedule.html
URL:http://www.ctionline.com/index.php/cti-instructor-led-class-schedu
 le.html
CONTACT:
ORGANIZER:CARQUEST Technical Institute
ATTACH;FMTTYPE="image/jpeg":http://storage.ning.com/topology/rest/1.0/
 file/get/967726379?profile=original
ATTENDEE;ROLE=REQ-PARTICIPANT;PARTSTAT=ACCEPTED;RSVP=TRUE;CN="Chris go
 sney":https://www.southeastwheelsevents.com/profile/Chrisgosney
END:VEVENT
END:VCALENDAR
