BEGIN:VCALENDAR
PRODID:NingEventWidget-v1
VERSION:2.0
METHOD:PUBLISH
BEGIN:VTIMEZONE
TZID:Pacific/Midway
X-LIC-LOCATION:Pacific/Midway
BEGIN:STANDARD
TZOFFSETFROM:-1100
TZOFFSETTO:-1100
TZNAME:SST
DTSTART:19700101T000000
END:STANDARD
END:VTIMEZONE
BEGIN:VEVENT
UID:5072275:Event:1026384
DTSTAMP:20260420T224915Z
SUMMARY:CTI Season Line-up Tamarac - Effective Electrical Troubleshoot
 ing: Diagnostic Application
DESCRIPTION:CTI Season Line-up Tamarac - Effective Electrical Troubles
 hooting: Diagnostic Application of Wiring Schematics will be held at A
 dvance Auto Parts, Fort Lauderdale, FL. The course guides technicians 
 through the effective use of wiring schematics as a diagnostic tool. L
 earn to combine schematics, circuit operation information, and power f
 low techniques along with applied circuit principles to diagnose probl
 ems quickly and accurately. Find electrical faults fast by recognizing
  the characteristics of shorts, opens, and high resistance circuit pro
 blems. Learn the rnost effective tools and techniques to use for a giv
 en fault. During the interactive course, students will use selected sc
 hematics to diagnose assigned circuit problems and conditions. Course 
 starts at 6.00pm and ends at 10.00pm.\n\nFor more information visit ht
 tps://www.southeastwheelsevents.com/events/cti-season-line-up-tamarac-
 effective-electrical-troubleshooting
DTSTART;TZID=Pacific/Midway:20170220T180000
DTEND;TZID=Pacific/Midway:20170220T220000
CATEGORIES:business, auto, "body/paint", "education/schools", "mechani
 cal/service"
LOCATION:Advance Auto Parts
WEBSITE:http://www.ctionline.com/index.php/cti-instructor-led-class-sc
 hedule.html
URL:http://www.ctionline.com/index.php/cti-instructor-led-class-schedu
 le.html
CONTACT:
ORGANIZER:CARQUEST Technical Institute
ATTACH;FMTTYPE="image/jpeg":http://storage.ning.com/topology/rest/1.0/
 file/get/967725663?profile=original
ATTENDEE;ROLE=REQ-PARTICIPANT;PARTSTAT=ACCEPTED;RSVP=TRUE;CN="Chris go
 sney":https://www.southeastwheelsevents.com/profile/Chrisgosney
END:VEVENT
END:VCALENDAR
