BEGIN:VCALENDAR
PRODID:NingEventWidget-v1
VERSION:2.0
METHOD:PUBLISH
BEGIN:VTIMEZONE
TZID:Pacific/Midway
X-LIC-LOCATION:Pacific/Midway
BEGIN:STANDARD
TZOFFSETFROM:-1100
TZOFFSETTO:-1100
TZNAME:SST
DTSTART:19700101T000000
END:STANDARD
END:VTIMEZONE
BEGIN:VEVENT
UID:5072275:Event:405127
DTSTAMP:20260420T082324Z
SUMMARY:Cumming 2nd Baptist 10th Annual Car Truck and Bike Show -Cummi
 ng, GA
DESCRIPTION:Cumming 2nd Baptist 10th Annual Car Truck And Bike Show, t
 op 20 awards several specialty awards, great food, music lots of door 
 prizes. $20.00 entry fee.\n\nFor more information visit https://www.so
 utheastwheelsevents.com/events/cumming-2nd-baptist-10th-annual-car-tru
 ck-and-bike-show
DTSTART;TZID=Pacific/Midway:20110917T090000
DTEND;TZID=Pacific/Midway:20110917T150000
CATEGORIES:fundraiser
LOCATION:Cumming City Parking Lot #1
WEBSITE:
URL:
CONTACT:678-405-4652
ORGANIZER;CN="Eric Kimbarl":https://www.southeastwheelsevents.com/prof
 ile/EricKimbarl
ATTACH;FMTTYPE="image/jpeg":
ATTENDEE;ROLE=REQ-PARTICIPANT;PARTSTAT=ACCEPTED;RSVP=TRUE;CN="Eric Kim
 barl":https://www.southeastwheelsevents.com/profile/EricKimbarl
ATTENDEE;ROLE=REQ-PARTICIPANT;PARTSTAT=TENTATIVE;RSVP=TRUE;CN="Rodney 
 Wallin":https://www.southeastwheelsevents.com/profile/Rodneywallin
ATTENDEE;ROLE=REQ-PARTICIPANT;PARTSTAT=TENTATIVE;RSVP=TRUE;CN="JP Brad
 y":https://www.southeastwheelsevents.com/profile/jpbrady
END:VEVENT
END:VCALENDAR
