BEGIN:VCALENDAR
PRODID:NingEventWidget-v1
VERSION:2.0
METHOD:PUBLISH
BEGIN:VTIMEZONE
TZID:Pacific/Midway
X-LIC-LOCATION:Pacific/Midway
BEGIN:STANDARD
TZOFFSETFROM:-1100
TZOFFSETTO:-1100
TZNAME:SST
DTSTART:19700101T000000
END:STANDARD
END:VTIMEZONE
BEGIN:VEVENT
UID:5072275:Event:1043300
DTSTAMP:20260423T184549Z
SUMMARY:Cruizin on the Suwannee Auto & Truck Show - Dowling Park, FL
DESCRIPTION:The annual Cruizin on the Suwannee Auto & Truck Show takes
  place the first Saturday in October as part of Advent Christian Villa
 ge's annual Autumn Fest. The entire event takes place at the Village S
 quare and features many vendor booths (think flea market), lots of goo
 d food, and live entertainment. The registration fee is $20. Every par
 ticipant will be treated to free donuts and coffee, receives a dash pl
 aque, and will be judged for a variety of awards. T-shirts will be ava
 ilable while supplies last. The proceeds from the event will benefit d
 isadvantaged children. Registration begins at 7:30 a.m.\n\nFor more in
 formation visit https://www.southeastwheelsevents.com/events/curizin-o
 n-the-suwannee-auto-truck-show-dowling-park-fl
DTSTART;TZID=Pacific/Midway:20171007T080000
DTEND;TZID=Pacific/Midway:20171007T130000
CATEGORIES:car, show
LOCATION:Advent Christian Village
WEBSITE:https://www.google.com/maps/place/11057+Dowling+Park+Dr,+Live+
 Oak,+FL+32064/@30.2479732,-83.2429366,17z/data=!3m1!4b1!4m5!3m4!1s0x88
 eec75b26678e0d:0x8ad1612fc9013873!8m2!3d30.2479686!4d-83.2407479
URL:https://www.google.com/maps/place/11057+Dowling+Park+Dr,+Live+Oak,
 +FL+32064/@30.2479732,-83.2429366,17z/data=!3m1!4b1!4m5!3m4!1s0x88eec7
 5b26678e0d:0x8ad1612fc9013873!8m2!3d30.2479686!4d-83.2407479
CONTACT:(386) 658-5291
ORGANIZER;CN="Advent Christian Village":https://www.southeastwheelseve
 nts.com/profile/AdventChristianVillage
ATTACH;FMTTYPE="image/jpeg":http://storage.ning.com/topology/rest/1.0/
 file/get/967745934?profile=original
ATTENDEE;ROLE=REQ-PARTICIPANT;PARTSTAT=ACCEPTED;RSVP=TRUE;CN="Advent C
 hristian Village":https://www.southeastwheelsevents.com/profile/Advent
 ChristianVillage
END:VEVENT
END:VCALENDAR
