BEGIN:VCALENDAR
PRODID:NingEventWidget-v1
VERSION:2.0
METHOD:PUBLISH
BEGIN:VTIMEZONE
TZID:Pacific/Midway
X-LIC-LOCATION:Pacific/Midway
BEGIN:STANDARD
TZOFFSETFROM:-1100
TZOFFSETTO:-1100
TZNAME:SST
DTSTART:19700101T000000
END:STANDARD
END:VTIMEZONE
BEGIN:VEVENT
UID:5072275:Event:1061290
DTSTAMP:20260423T090629Z
SUMMARY:Customer Appreciation Free Lunch Cook-Out -Bogart, GA
DESCRIPTION:\r\nHosted by Harley Davidson of Athens and Cycle World
  of Athens\n\nFor more information visit https://www.southeastwheelsev
 ents.com/events/customer-appreciation-free-lunch-cook-out-bogart-ga
DTSTART;TZID=Pacific/Midway:20170812T113000
DTEND;TZID=Pacific/Midway:20170812T140000
CATEGORIES:bike-show, ride, festival
LOCATION:Cycle World of Athens
WEBSITE:https://www.facebook.com/CycleWorldAthens/photos/gm.1149340258
 26691/10155296350219550/?type=3&amp;theater
URL:https://www.facebook.com/CycleWorldAthens/photos/gm.11493402582669
 1/10155296350219550/?type=3&amp;theater
CONTACT:678-425-0316
ORGANIZER:Cycle World of Athens
ATTACH;FMTTYPE="image/jpeg":http://storage.ning.com/topology/rest/1.0/
 file/get/967734300?profile=original
ATTENDEE;ROLE=REQ-PARTICIPANT;PARTSTAT=ACCEPTED;RSVP=TRUE;CN="Chuck Aa
 ron":https://www.southeastwheelsevents.com/profile/ChuckAaron886
END:VEVENT
END:VCALENDAR
