BEGIN:VCALENDAR
PRODID:NingEventWidget-v1
VERSION:2.0
METHOD:PUBLISH
BEGIN:VTIMEZONE
TZID:Pacific/Midway
X-LIC-LOCATION:Pacific/Midway
BEGIN:STANDARD
TZOFFSETFROM:-1100
TZOFFSETTO:-1100
TZNAME:SST
DTSTART:19700101T000000
END:STANDARD
END:VTIMEZONE
BEGIN:VEVENT
UID:5072275:Event:1024854
DTSTAMP:20260424T100053Z
SUMMARY:CVHOG Breakfast Ride
DESCRIPTION:Catawba Valley Harley Owners Group Breakfast Ride will hap
 pen at Blue Ridge Harley-Davidson, 2002 13th Ave Dr SE, Hickory, NC. 1
  Chapter Point, 25 VIB Points for attending. Meet at 9.00am. Kickstand
 s up at 9:30 am. Ride end time may change.\n\nFor more information vis
 it https://www.southeastwheelsevents.com/events/cvhog-breakfast-ride
DTSTART;TZID=Pacific/Midway:20161217T093000
DTEND;TZID=Pacific/Midway:20161217T120000
CATEGORIES:motorcycles, "clubs/shows/cruises"
LOCATION:Blue Ridge Harley-Davidson
WEBSITE:http://cvhog.com/code/Calendar.aspx?MoDaYr=4%2f1%2f2016
URL:http://cvhog.com/code/Calendar.aspx?MoDaYr=4%2f1%2f2016
CONTACT:
ORGANIZER:Catawba Valley HOG
ATTACH;FMTTYPE="image/jpeg":
ATTENDEE;ROLE=REQ-PARTICIPANT;PARTSTAT=ACCEPTED;RSVP=TRUE;CN="Chris go
 sney":https://www.southeastwheelsevents.com/profile/Chrisgosney
END:VEVENT
END:VCALENDAR
