BEGIN:VCALENDAR
PRODID:NingEventWidget-v1
VERSION:2.0
METHOD:PUBLISH
BEGIN:VTIMEZONE
TZID:Pacific/Midway
X-LIC-LOCATION:Pacific/Midway
BEGIN:STANDARD
TZOFFSETFROM:-1100
TZOFFSETTO:-1100
TZNAME:SST
DTSTART:19700101T000000
END:STANDARD
END:VTIMEZONE
BEGIN:VEVENT
UID:5072275:Event:907273
DTSTAMP:20260424T041438Z
SUMMARY:Cycle Gear Bike Night -Lawrenceville, GA
DESCRIPTION:CYCLE GEAR: BIKE NIGHT\n\n\n\n \n\n\n722 Collins Hill Roa
 d, Lawrenceville, GA\n\n\n\n\nAll the great and plentiful free stuff
 , slow races, prizes. Hang with the cool kids and come on out.\nhttp:/
 /www.cyclegear.com/ \n\nCome on and \"LIKE\" the page, invite friends
 . \nhttps://www.facebook.com/cyclegearlawrenceville \n\n\n\n\n\n\n\n
 For more information visit https://www.southeastwheelsevents.com/event
 s/cycle-gear-bike-night-lawrenceville-ga
DTSTART;TZID=Pacific/Midway:20161109T170000
DTEND;TZID=Pacific/Midway:20161109T200000
CATEGORIES:bike, night
LOCATION:Cycle Gear
WEBSITE:http://www.cyclegear.com/
URL:http://www.cyclegear.com/
CONTACT:800-292-5343
ORGANIZER:Cycle Gear
ATTACH;FMTTYPE="image/jpeg":http://storage.ning.com/topology/rest/1.0/
 file/get/967688984?profile=original
ATTENDEE;ROLE=REQ-PARTICIPANT;PARTSTAT=ACCEPTED;RSVP=TRUE;CN="Chuck Aa
 ron":https://www.southeastwheelsevents.com/profile/ChuckAaron
END:VEVENT
END:VCALENDAR
