BEGIN:VCALENDAR
PRODID:NingEventWidget-v1
VERSION:2.0
METHOD:PUBLISH
BEGIN:VTIMEZONE
TZID:Pacific/Midway
X-LIC-LOCATION:Pacific/Midway
BEGIN:STANDARD
TZOFFSETFROM:-1100
TZOFFSETTO:-1100
TZNAME:SST
DTSTART:19700101T000000
END:STANDARD
END:VTIMEZONE
BEGIN:VEVENT
UID:5072275:Event:1052790
DTSTAMP:20260425T053413Z
SUMMARY:Cystic Fibrosis MaDe Strong Car Show
DESCRIPTION:Cystic Fibrosis MaDe Strong Car Show\nMay 27, 2017 10a.m. 
 - 2p.m.\n\n\nMaDe Strong Car Show benefiting Cystic Fibrosis Foundatio
 n will be Saturday May 27th from 10am to 2pm at Broadway Baptist Churc
 h in Rainsville, Alabama. $20 entry fee. Open to cars, trucks, tractor
 s, & motorcycles. Trophies awarded to best of show in all categories.\
 n\nWhen: May 27, 2017 10a.m. - 2p.m. Location:\n99 McCurdy AveRains
 ville, AL, 35986\nCost: $20 entry fee To Register: or call Gene Wri
 ght at 256-996-4846 or e-mail us \n\n\n\nFor more information visit 
 https://www.southeastwheelsevents.com/events/cystic-fibrosis-made-stro
 ng-car-show
DTSTART;TZID=Pacific/Midway:20170527T100000
DTEND;TZID=Pacific/Midway:20170527T140000
CATEGORIES:open, car, show
LOCATION:Broadway Baptist Church
WEBSITE:http://www.showandshineforcf.com
URL:http://www.showandshineforcf.com
CONTACT:call Gene Wright at 256-996-4846
ORGANIZER:Broadway Baptist Church
ATTACH;FMTTYPE="image/jpeg":http://storage.ning.com/topology/rest/1.0/
 file/get/967610535?profile=original
ATTENDEE;ROLE=REQ-PARTICIPANT;PARTSTAT=ACCEPTED;RSVP=TRUE;CN="Chuck Aa
 ron":https://www.southeastwheelsevents.com/profile/ChuckAaron886
END:VEVENT
END:VCALENDAR
