BEGIN:VCALENDAR
PRODID:NingEventWidget-v1
VERSION:2.0
METHOD:PUBLISH
BEGIN:VTIMEZONE
TZID:Pacific/Midway
X-LIC-LOCATION:Pacific/Midway
BEGIN:STANDARD
TZOFFSETFROM:-1100
TZOFFSETTO:-1100
TZNAME:SST
DTSTART:19700101T000000
END:STANDARD
END:VTIMEZONE
BEGIN:VEVENT
UID:5072275:Event:693194
DTSTAMP:20260424T163059Z
SUMMARY:Daffy's Day 2013 Car Bike and Truck Show -Lawrenceville, GA
DESCRIPTION:carshowregistration7.pdf\n\nFor more information visit htt
 ps://www.southeastwheelsevents.com/events/daffy-s-day-2013-car-bike-an
 d-truck-show
DTSTART;TZID=Pacific/Midway:20131026T100000
DTEND;TZID=Pacific/Midway:20131026T170000
CATEGORIES:fundraiser
LOCATION:Gwinnett County Fairgrounds
WEBSITE:
URL:
CONTACT:
ORGANIZER;CN="Jerry Jones":https://www.southeastwheelsevents.com/profi
 le/JerryJOnes
ATTACH;FMTTYPE="image/jpeg":http://storage.ning.com/topology/rest/1.0/
 file/get/967644243?profile=original
ATTENDEE;ROLE=REQ-PARTICIPANT;PARTSTAT=ACCEPTED;RSVP=TRUE;CN="Greg Fos
 ter":https://www.southeastwheelsevents.com/profile/GregFoster
ATTENDEE;ROLE=REQ-PARTICIPANT;PARTSTAT=TENTATIVE;RSVP=TRUE;CN="JP Brad
 y":https://www.southeastwheelsevents.com/profile/jpbrady
ATTENDEE;ROLE=REQ-PARTICIPANT;PARTSTAT=TENTATIVE;RSVP=TRUE;CN="Michael
  Ruffalo":https://www.southeastwheelsevents.com/profile/MichaelRuffalo
END:VEVENT
END:VCALENDAR
