BEGIN:VCALENDAR
PRODID:NingEventWidget-v1
VERSION:2.0
METHOD:PUBLISH
BEGIN:VTIMEZONE
TZID:Pacific/Midway
X-LIC-LOCATION:Pacific/Midway
BEGIN:STANDARD
TZOFFSETFROM:-1100
TZOFFSETTO:-1100
TZNAME:SST
DTSTART:19700101T000000
END:STANDARD
END:VTIMEZONE
BEGIN:VEVENT
UID:5072275:Event:1265406
DTSTAMP:20260423T205900Z
SUMMARY:Dahlonega Car Club Meeting -Dahlonega, GA
DESCRIPTION:First Tuesday of every month\r\nMonthly Meetings\r\nWe hav
 e monthly Membership meetings on the first Tuesday of the month. Meeti
 ngs start at 6:00 PM.\r\nThe meetings are held in the conference room 
 of the Dahlonega Funeral Home building located at 20 Gibson Rd, Dahlon
 ega, GA 30533.\r\n\r\n\r\n\r\n\r\n\r\n\r\n\r\n\r\n\r\n\n\nFor more inf
 ormation visit https://www.southeastwheelsevents.com/events/dahlonega-
 car-club-meeting-dahlonega-ga-21
DTSTART;TZID=Pacific/Midway:20250204T180000
DTEND;TZID=Pacific/Midway:20250204T210000
CATEGORIES:monthly, car, club, meeting
LOCATION:Dahlonega Funeral Home
WEBSITE:http://www.dahlonegacarclub.com/
URL:http://www.dahlonegacarclub.com/
CONTACT:John: 470-252-5100 - info@DahlonegaCarClub.com
ORGANIZER:DCC
ATTACH;FMTTYPE="image/jpeg":https://storage.ning.com/topology/rest/1.0
 /file/get/10796868272?profile=original
ATTENDEE;ROLE=REQ-PARTICIPANT;PARTSTAT=ACCEPTED;RSVP=TRUE;CN="Chuck Aa
 ron":https://www.southeastwheelsevents.com/profile/ChuckAaron886
END:VEVENT
END:VCALENDAR
