BEGIN:VCALENDAR
PRODID:NingEventWidget-v1
VERSION:2.0
METHOD:PUBLISH
BEGIN:VTIMEZONE
TZID:Pacific/Midway
X-LIC-LOCATION:Pacific/Midway
BEGIN:STANDARD
TZOFFSETFROM:-1100
TZOFFSETTO:-1100
TZNAME:SST
DTSTART:19700101T000000
END:STANDARD
END:VTIMEZONE
BEGIN:VEVENT
UID:5072275:Event:646075
DTSTAMP:20260423T042618Z
SUMMARY:Cancelled - Dahlonega's 4th of July Car Show -Dahlonega, GA
DESCRIPTION:July 4th Car Show at downtown's Library complex.   $20. 
 Street Cruisers, Custom, Special Interest, Show/Trailered classes. Ex
 pect 150-200 cars with winners in the 5pm Downtown  Parade.  Family
  Fun Zone all day followed by huge Fireworks Show. \n\nFor more infor
 mation visit https://www.southeastwheelsevents.com/events/dahlonega-s-
 4th-of-july-car-show
DTSTART;TZID=Pacific/Midway:20130704T100000
DTEND;TZID=Pacific/Midway:20130704T170000
CATEGORIES:benefits, "lumpkin's", community, helping, place
LOCATION:Dahlonega's Downtown Library/Admin Complex
WEBSITE:http://Dahlonega.org or Facebook's Dahlonega Car Club
URL:http://Dahlonega.org or Facebook's Dahlonega Car Club
CONTACT:770 843-6477 cell
ORGANIZER;CN="Tully Johnstone":https://www.southeastwheelsevents.com/p
 rofile/TullyJohnstone
ATTACH;FMTTYPE="image/jpeg":http://storage.ning.com/topology/rest/1.0/
 file/get/967637825?profile=original
ATTENDEE;ROLE=REQ-PARTICIPANT;PARTSTAT=ACCEPTED;RSVP=TRUE;CN="Tully Jo
 hnstone":https://www.southeastwheelsevents.com/profile/TullyJohnstone
ATTENDEE;ROLE=REQ-PARTICIPANT;PARTSTAT=ACCEPTED;RSVP=TRUE;CN="Michael 
 Ruffalo":https://www.southeastwheelsevents.com/profile/MichaelRuffalo
ATTENDEE;ROLE=REQ-PARTICIPANT;PARTSTAT=ACCEPTED;RSVP=TRUE;CN="Dan & Ca
 therine Bennett":https://www.southeastwheelsevents.com/profile/DanBenn
 ett
ATTENDEE;ROLE=REQ-PARTICIPANT;PARTSTAT=TENTATIVE;RSVP=TRUE;CN="Mac Bri
 ght":https://www.southeastwheelsevents.com/profile/MacBright
ATTENDEE;ROLE=REQ-PARTICIPANT;PARTSTAT=TENTATIVE;RSVP=TRUE;CN="Gary Cr
 eel":https://www.southeastwheelsevents.com/profile/GaryCreel
ATTENDEE;ROLE=REQ-PARTICIPANT;PARTSTAT=TENTATIVE;RSVP=TRUE;CN="JP Brad
 y":https://www.southeastwheelsevents.com/profile/jpbrady
ATTENDEE;ROLE=REQ-PARTICIPANT;PARTSTAT=TENTATIVE;RSVP=TRUE;CN="Mike Da
 ly Sr":https://www.southeastwheelsevents.com/profile/MikeDalySr
END:VEVENT
END:VCALENDAR
