BEGIN:VCALENDAR
PRODID:NingEventWidget-v1
VERSION:2.0
METHOD:PUBLISH
BEGIN:VTIMEZONE
TZID:Pacific/Midway
X-LIC-LOCATION:Pacific/Midway
BEGIN:STANDARD
TZOFFSETFROM:-1100
TZOFFSETTO:-1100
TZNAME:SST
DTSTART:19700101T000000
END:STANDARD
END:VTIMEZONE
BEGIN:VEVENT
UID:5072275:Event:646240
DTSTAMP:20260419T010805Z
SUMMARY:Dahlonega's Cool Mountain Cruise OUT
DESCRIPTION:Leave Dahlonega's Historic Square at 10am traveling to Atl
 anta Motorsports Park tour, then to Amacalola Falls and then to Montal
 uce Vineyards lunch. We'll end at the Free Concert in downtown's Hanco
 ck Park.  Make sure you bring your camera. A donation to Lumpkin Cou
 nty Community Helping Place is appreciated.\n\nFor more information vi
 sit https://www.southeastwheelsevents.com/events/dahlonega-s-cool-moun
 tain-cruise-out
DTSTART;TZID=Pacific/Midway:20130705T100000
DTEND;TZID=Pacific/Midway:20130705T160000
CATEGORIES:fundraiser
LOCATION:Mountains around Dahlonega, GA
WEBSITE:http://facebook's Dahlonega Car Club
URL:http://facebook's Dahlonega Car Club
CONTACT:770 843-6477 cell
ORGANIZER;CN="Tully Johnstone":https://www.southeastwheelsevents.com/p
 rofile/TullyJohnstone
ATTACH;FMTTYPE="image/jpeg":http://storage.ning.com/topology/rest/1.0/
 file/get/967638277?profile=original
ATTENDEE;ROLE=REQ-PARTICIPANT;PARTSTAT=ACCEPTED;RSVP=TRUE;CN="Tully Jo
 hnstone":https://www.southeastwheelsevents.com/profile/TullyJohnstone
END:VEVENT
END:VCALENDAR
