BEGIN:VCALENDAR
PRODID:NingEventWidget-v1
VERSION:2.0
METHOD:PUBLISH
BEGIN:VTIMEZONE
TZID:Pacific/Midway
X-LIC-LOCATION:Pacific/Midway
BEGIN:STANDARD
TZOFFSETFROM:-1100
TZOFFSETTO:-1100
TZNAME:SST
DTSTART:19700101T000000
END:STANDARD
END:VTIMEZONE
BEGIN:VEVENT
UID:5072275:Event:1189903
DTSTAMP:20260425T001221Z
SUMMARY:DAIRY QUEEN CRUISE IN
DESCRIPTION:\n\nFor more information visit https://www.southeastwheels
 events.com/events/dairy-queen-cruise-in-1
DTSTART;TZID=Pacific/Midway:20200404T180000
DTEND;TZID=Pacific/Midway:20200404T190000
CATEGORIES:cruise, in
LOCATION:DAIRY QUEEN
WEBSITE:
URL:
CONTACT:
ORGANIZER:ARTESIAN CITY CAR CLUB OF ALBANY
ATTACH;FMTTYPE="image/jpeg":
ATTENDEE;ROLE=REQ-PARTICIPANT;PARTSTAT=TENTATIVE;RSVP=TRUE;CN="Jeffrey
  Rutherford":https://www.southeastwheelsevents.com/profile/JeffreyRuth
 erford866
END:VEVENT
END:VCALENDAR
