BEGIN:VCALENDAR
PRODID:NingEventWidget-v1
VERSION:2.0
METHOD:PUBLISH
BEGIN:VTIMEZONE
TZID:Pacific/Midway
X-LIC-LOCATION:Pacific/Midway
BEGIN:STANDARD
TZOFFSETFROM:-1100
TZOFFSETTO:-1100
TZNAME:SST
DTSTART:19700101T000000
END:STANDARD
END:VTIMEZONE
BEGIN:VEVENT
UID:5072275:Event:1236791
DTSTAMP:20260423T061248Z
SUMMARY:Dairy Queen Cruise-In -Vladosta, GA
DESCRIPTION: Dairy Queen Cruise-In  5:00 PM - 7:00 PM   Aug 18, 2022
  (General) \r\n3rd Thursday SGCCC Cruise-In\r\nLocation:\r\n\r\n3277 I
 nner Perimeter Rd, Valdosta, GA 31605, USA\r\n\r\n\r\n \n\nFor more i
 nformation visit https://www.southeastwheelsevents.com/events/dairy-qu
 een-cruise-in-vladosta-ga-1
DTSTART;TZID=Pacific/Midway:20220915T170000
DTEND;TZID=Pacific/Midway:20220915T190000
CATEGORIES:monthly, cruise-in
LOCATION:Dairy Queen Cruise-In
WEBSITE:https://sgccc.org/calendar.htm
URL:https://sgccc.org/calendar.htm
CONTACT:dwbremer@gmail.com
ORGANIZER:Southern GA Classic Car Club
ATTACH;FMTTYPE="image/jpeg":http://storage.ning.com/topology/rest/1.0/
 file/get/967666419?profile=original
ATTENDEE;ROLE=REQ-PARTICIPANT;PARTSTAT=ACCEPTED;RSVP=TRUE;CN="Chuck Aa
 ron":https://www.southeastwheelsevents.com/profile/ChuckAaron886
END:VEVENT
END:VCALENDAR
