BEGIN:VCALENDAR
PRODID:NingEventWidget-v1
VERSION:2.0
METHOD:PUBLISH
BEGIN:VTIMEZONE
TZID:Pacific/Midway
X-LIC-LOCATION:Pacific/Midway
BEGIN:STANDARD
TZOFFSETFROM:-1100
TZOFFSETTO:-1100
TZNAME:SST
DTSTART:19700101T000000
END:STANDARD
END:VTIMEZONE
BEGIN:VEVENT
UID:5072275:Event:217331
DTSTAMP:20260424T004324Z
SUMMARY:Danny Johns Memorial Classic Car Cruise In -Metter, Ga 30439
DESCRIPTION:Another Bloomin Festival/Classic Car Cruise In...Saturday,
  April 23. Metter, Ga.    Cruise in will begin with lineup next to 
 Papa Bucks BBQ off I-16 exit 104 and cruise into beautiful downtown Me
 tter to a reserved section of the festival for showing. Lineup starts 
 at 9:30 AM, cruise in leaves at 10:00am. No fee required, just come en
 joy the day!  Arts &Crafts, 5 k run, live entertainment, flower show,
  easter egg hunt. Food vendors located in the park!      For more
  information contact Deborah Johns 912-536-9346 or Metter Candler Coun
 ty Chamber of Commerce\n\nFor more information visit https://www.south
 eastwheelsevents.com/events/danny-johns-memorial-classic
DTSTART;TZID=Pacific/Midway:20110423T000000
DTEND;TZID=Pacific/Midway:20110423T235900
CATEGORIES:"'cruise", "in'", arts, and, crafts, festival
LOCATION:Down Town Metter
WEBSITE:http://Metter-Candler County Chamber of Commerce
URL:http://Metter-Candler County Chamber of Commerce
CONTACT:912-685-6196
ORGANIZER;CN="Deborah Jphns":https://www.southeastwheelsevents.com/pro
 file/DeborahJphns
ATTACH;FMTTYPE="image/jpeg":
ATTENDEE;ROLE=REQ-PARTICIPANT;PARTSTAT=ACCEPTED;RSVP=TRUE;CN="Deborah 
 Jphns":https://www.southeastwheelsevents.com/profile/DeborahJphns
END:VEVENT
END:VCALENDAR
