BEGIN:VCALENDAR
PRODID:NingEventWidget-v1
VERSION:2.0
METHOD:PUBLISH
BEGIN:VTIMEZONE
TZID:Pacific/Midway
X-LIC-LOCATION:Pacific/Midway
BEGIN:STANDARD
TZOFFSETFROM:-1100
TZOFFSETTO:-1100
TZNAME:SST
DTSTART:19700101T000000
END:STANDARD
END:VTIMEZONE
BEGIN:VEVENT
UID:5072275:Event:518997
DTSTAMP:20260425T081806Z
SUMMARY:Darby Racing Club 1st Annual Car, Bike, Truck Show -N Charlest
 on, SC
DESCRIPTION:Darby racing club will have its 1st annual car, bike, and 
 Truck/SUV show on Saturday August 25,2012 from 5pm-9pm at Hooters rest
 aurant, 2171 Northwoods Blvd. N. Charleston , SC , 29406 . Registratio
 n is $25, and can be done anytime before the show and 5pm-7pm the day 
 of the show. Awards will be at 830pm day of show. Price of admission i
 s $5.00 per person. Awards will be given for Best car, Best motorcycle
 , and Best Truck/SUV. There will also be an award for best all around 
 where the winner will get $500 cash. All awards will be done by People
 s choice meaning there will be no judges and people will get a card wh
 ere they will vote the winners in each car group and best all around.P
 art of the proceeds will go to the National Bullying Prevention center
 . \n\nFor more information visit https://www.southeastwheelsevents.co
 m/events/darby-racing-club-1st-annual-car-bike-truck-show
DTSTART;TZID=Pacific/Midway:20120825T170000
DTEND;TZID=Pacific/Midway:20120825T210000
CATEGORIES:fundraiser, part, of, the, proceeds, will, go, to, national
 , bullying, prevention, "center."
LOCATION:Hooters Restaurant
WEBSITE:
URL:
CONTACT:8439266856
ORGANIZER;CN="James Darby":https://www.southeastwheelsevents.com/profi
 le/JamesDarby
ATTACH;FMTTYPE="image/jpeg":http://storage.ning.com/topology/rest/1.0/
 file/get/967611081?profile=original
ATTENDEE;ROLE=REQ-PARTICIPANT;PARTSTAT=ACCEPTED;RSVP=TRUE;CN="James Da
 rby":https://www.southeastwheelsevents.com/profile/JamesDarby
END:VEVENT
END:VCALENDAR
