BEGIN:VCALENDAR
PRODID:NingEventWidget-v1
VERSION:2.0
METHOD:PUBLISH
BEGIN:VTIMEZONE
TZID:Pacific/Midway
X-LIC-LOCATION:Pacific/Midway
BEGIN:STANDARD
TZOFFSETFROM:-1100
TZOFFSETTO:-1100
TZNAME:SST
DTSTART:19700101T000000
END:STANDARD
END:VTIMEZONE
BEGIN:VEVENT
UID:5072275:Event:547969
DTSTAMP:20260421T124329Z
SUMMARY:Darby racing clubs 1st annual car,truck, and bike show
DESCRIPTION:We are now less than 2 days away from the biggest car show
  to hit Charleston, SC. August 25 at Hooters in Charleston, SC from 5-
 9pm. We will have performers, speakers, raffles for some of the hottes
 t gifts you ever seen, women so beautifu\nl your eyes will water, and 
 some of the hottest cars, bikes, and trucks on the planet. On top of t
 hat we giving money to the National Bullying Prevention center plus so
 me lucky person is gonna walk away with 500 CASH.  \n\nFor more infor
 mation visit https://www.southeastwheelsevents.com/events/darby-racing
 -clubs-1st-annual-car-truck-and-bike-show
DTSTART;TZID=Pacific/Midway:20120825T170000
DTEND;TZID=Pacific/Midway:20120825T210000
CATEGORIES:fundraiser, for, national, bullying, prevention, center
LOCATION:Hooters, 2171 northwoods blvd. N. Charleston, SC
WEBSITE:http://darbyracingclub.com
URL:http://darbyracingclub.com
CONTACT:8439266856
ORGANIZER;CN="James Darby":https://www.southeastwheelsevents.com/profi
 le/JamesDarby
ATTACH;FMTTYPE="image/jpeg":http://storage.ning.com/topology/rest/1.0/
 file/get/967625550?profile=original
ATTENDEE;ROLE=REQ-PARTICIPANT;PARTSTAT=ACCEPTED;RSVP=TRUE;CN="James Da
 rby":https://www.southeastwheelsevents.com/profile/JamesDarby
END:VEVENT
END:VCALENDAR
