BEGIN:VCALENDAR
PRODID:NingEventWidget-v1
VERSION:2.0
METHOD:PUBLISH
BEGIN:VTIMEZONE
TZID:Pacific/Midway
X-LIC-LOCATION:Pacific/Midway
BEGIN:STANDARD
TZOFFSETFROM:-1100
TZOFFSETTO:-1100
TZNAME:SST
DTSTART:19700101T000000
END:STANDARD
END:VTIMEZONE
BEGIN:VEVENT
UID:5072275:Event:1192939
DTSTAMP:20260422T225413Z
SUMMARY:DATE CHANGED From April- Pigeon Forge Rod Run Spring 2020 -Pig
 eon Forge, TN
DESCRIPTION:A spectacular 3 day event for any car enthusiast! $10,000.
 00 cash giveaway, Top 25 Awards, Ultimate 5 Awards and King of the Hil
 l. Huge swap meet with hundreds of showcars and car corral.  Join the 
 many automotive enthusiasts and come on out to the Pigeon Forge Rod Ru
 n, the area’s largest automotive event! The Rod Show will be returni
 ng to its original location at The LeConte Center at Pigeon Forge. The
  newly renovated location will allow for even more show cars, vendors 
 and entertainment. Don’t miss this incredible event!\r\n\r\nhttps://
 www.pigeonforgerodruns.com/car-show/spring-rod-run/\n\nFor more inform
 ation visit https://www.southeastwheelsevents.com/events/date-changed-
 from-april-pigeon-forge-rod-run-spring-2020-pigeon-f
DTSTART;TZID=Pacific/Midway:20200611T000000
DTEND;TZID=Pacific/Midway:20200613T235900
CATEGORIES:3, day, open, car, show, swap, meet, "&amp", "(sale)", corr
 al
LOCATION:LeConte Event Center
WEBSITE:http://pigeonforgerodruns.com
URL:http://pigeonforgerodruns.com
CONTACT:https://www.facebook.com/pigeonforgevacations
ORGANIZER:PigeonForge.com
ATTACH;FMTTYPE="image/jpeg":https://storage.ning.com/topology/rest/1.0
 /file/get/3783684487?profile=original
ATTENDEE;ROLE=REQ-PARTICIPANT;PARTSTAT=ACCEPTED;RSVP=TRUE;CN="Chuck Aa
 ron":https://www.southeastwheelsevents.com/profile/ChuckAaron886
END:VEVENT
END:VCALENDAR
