BEGIN:VCALENDAR
PRODID:NingEventWidget-v1
VERSION:2.0
METHOD:PUBLISH
BEGIN:VTIMEZONE
TZID:Pacific/Midway
X-LIC-LOCATION:Pacific/Midway
BEGIN:STANDARD
TZOFFSETFROM:-1100
TZOFFSETTO:-1100
TZNAME:SST
DTSTART:19700101T000000
END:STANDARD
END:VTIMEZONE
BEGIN:VEVENT
UID:5072275:Event:1181868
DTSTAMP:20260423T195723Z
SUMMARY:Dave &amp; Ed's Super Auto Events Canfield Oh
DESCRIPTION:The areas oldest meet for Rodders, Classics & Antiques. Sw
 ap Meet & Car CorralVendor spaces available Outdoor/Indoor Call for av
 ailability. Car Corral: $25 vehicle/driver, cash payment @ gate weeken
 d of show.General Admission: $7 per day/ $10 weekend pass. FREE parkin
 g, FREE part pick up, FREE notary service, Kids 11 & Under FREE. Find 
 Vendors selling car, truck & motorcycle parts, leather goods, sunglass
 es, t-shirts, shop rags, tires & wheels, titles and much more. This is
  a family friendly event.\n\nFor more information visit https://www.so
 utheastwheelsevents.com/events/dave-amp-ed-s-super-auto-events-canfiel
 d-oh-1
DTSTART;TZID=Pacific/Midway:20200717T080000
DTEND;TZID=Pacific/Midway:20200719T160000
CATEGORIES:vendors, swap, meet, car, corral
LOCATION:Canfield Mahoning County Fairgrounds
WEBSITE:http://www.autoevents.com
URL:http://www.autoevents.com
CONTACT:3304778506
ORGANIZER;CN="Dave & Ed's Super Auto Events":https://www.southeastwhee
 lsevents.com/profile/DaveEdsSuperAutoEvents
ATTACH;FMTTYPE="image/jpeg":https://storage.ning.com/topology/rest/1.0
 /file/get/3751711268?profile=original
ATTENDEE;ROLE=REQ-PARTICIPANT;PARTSTAT=ACCEPTED;RSVP=TRUE;CN="Dave & E
 d's Super Auto Events":https://www.southeastwheelsevents.com/profile/D
 aveEdsSuperAutoEvents
END:VEVENT
END:VCALENDAR
