BEGIN:VCALENDAR
PRODID:NingEventWidget-v1
VERSION:2.0
METHOD:PUBLISH
BEGIN:VTIMEZONE
TZID:Pacific/Midway
X-LIC-LOCATION:Pacific/Midway
BEGIN:STANDARD
TZOFFSETFROM:-1100
TZOFFSETTO:-1100
TZNAME:SST
DTSTART:19700101T000000
END:STANDARD
END:VTIMEZONE
BEGIN:VEVENT
UID:5072275:Event:1110201
DTSTAMP:20260419T082003Z
SUMMARY:Dave and Ed's Super Auto Events Swap Meet -Canfield, OH
DESCRIPTION:The areas oldest meet for Rodders, Classics & Antiques. Sw
 ap Meet, Car Corral & Sunday Only Car Show. Vendor spaces available Ou
 tdoor/Indoor Call for availability. Car Corral: $25 vehicle/driver, ca
 sh payment @ gate weekend of show. Sunday Casual Car Show: car/driver 
 FREE, passengers $7 each, Limited dash plaques & goodie bags. General 
 Admission: $7 per day/ $10 weekend pass. FREE parking, FREE part pick 
 up, FREE notary service, Kids 11 & Under FREE. Find Vendors selling ca
 r, truck & motorcycle parts, leather goods, sunglasses, t-shirts, shop
  rags, tires & wheels, titles and much more. This is a family friendly
  event.\n\nFor more information visit https://www.southeastwheelsevent
 s.com/events/dave-amp-ed-s-super-auto-events-swap-meet-canfield-oh
DTSTART;TZID=Pacific/Midway:20190503T080000
DTEND;TZID=Pacific/Midway:20190505T160000
CATEGORIES:vendors, swap, meet, car, corral, show
LOCATION:Canfield Mahoning County Fairgrounds
WEBSITE:http://www.autoevents.com
URL:http://www.autoevents.com
CONTACT:3304778506
ORGANIZER;CN="Dave & Ed's Super Auto Events":https://www.southeastwhee
 lsevents.com/profile/DaveEdsSuperAutoEvents
ATTACH;FMTTYPE="image/jpeg":http://storage.ning.com/topology/rest/1.0/
 file/get/967803135?profile=original
ATTENDEE;ROLE=REQ-PARTICIPANT;PARTSTAT=ACCEPTED;RSVP=TRUE;CN="Dave & E
 d's Super Auto Events":https://www.southeastwheelsevents.com/profile/D
 aveEdsSuperAutoEvents
END:VEVENT
END:VCALENDAR
