BEGIN:VCALENDAR
PRODID:NingEventWidget-v1
VERSION:2.0
METHOD:PUBLISH
BEGIN:VTIMEZONE
TZID:Pacific/Midway
X-LIC-LOCATION:Pacific/Midway
BEGIN:STANDARD
TZOFFSETFROM:-1100
TZOFFSETTO:-1100
TZNAME:SST
DTSTART:19700101T000000
END:STANDARD
END:VTIMEZONE
BEGIN:VEVENT
UID:5072275:Event:1024732
DTSTAMP:20260420T193535Z
SUMMARY:Dave & Busters Car Show, Marietta, GA
DESCRIPTION:Tired of the Winter \"Off-Season\"?\nWell we are too! The 
 Georgia Cool Cruisers and Southeast Wheels Events are teaming up on th
 is FUN event at a FUN Location! Popular Choice Awards and Prizes PLUS 
 Great Food and Games available inside Dave & Busters.\nThis show will 
 feature a JAY LENO Award, and possibly an appearance by Jay himself!\n
 Entry Fee is a Donation to Hot Rodders Children's Charity\nWhat could 
 be MORE FUN???\n\nFor more information visit https://www.southeastwhee
 lsevents.com/events/dave-busters-car-show-marietta-ga
DTSTART;TZID=Pacific/Midway:20170218T130000
DTEND;TZID=Pacific/Midway:20170218T163000
CATEGORIES:car, show, fundraiser
LOCATION:Dave & Buster's
WEBSITE:http://www.GeorgiaCoolCruisers.org
URL:http://www.GeorgiaCoolCruisers.org
CONTACT:404-732-6842
ORGANIZER:Rick Ellis & Mike Thies
ATTACH;FMTTYPE="image/jpeg":http://storage.ning.com/topology/rest/1.0/
 file/get/967716570?profile=original
ATTENDEE;ROLE=REQ-PARTICIPANT;PARTSTAT=ACCEPTED;RSVP=TRUE;CN="Mike Suh
 anek":https://www.southeastwheelsevents.com/profile/mikesuhanek
ATTENDEE;ROLE=REQ-PARTICIPANT;PARTSTAT=ACCEPTED;RSVP=TRUE;CN="Michael 
 Ruffalo":https://www.southeastwheelsevents.com/profile/MichaelRuffalo
ATTENDEE;ROLE=REQ-PARTICIPANT;PARTSTAT=ACCEPTED;RSVP=TRUE;CN="John Bai
 ley":https://www.southeastwheelsevents.com/profile/JohnBailey
ATTENDEE;ROLE=REQ-PARTICIPANT;PARTSTAT=ACCEPTED;RSVP=TRUE;CN="Lee Gosn
 ey":https://www.southeastwheelsevents.com/profile/LeeGosney
ATTENDEE;ROLE=REQ-PARTICIPANT;PARTSTAT=ACCEPTED;RSVP=TRUE;CN="Bill mus
 arra":https://www.southeastwheelsevents.com/profile/billmusarra
ATTENDEE;ROLE=REQ-PARTICIPANT;PARTSTAT=ACCEPTED;RSVP=TRUE;CN="Chuck Aa
 ron":https://www.southeastwheelsevents.com/profile/ChuckAaron886
ATTENDEE;ROLE=REQ-PARTICIPANT;PARTSTAT=ACCEPTED;RSVP=TRUE;CN="Rick Ell
 is":https://www.southeastwheelsevents.com/profile/RickEllis
ATTENDEE;ROLE=REQ-PARTICIPANT;PARTSTAT=TENTATIVE;RSVP=TRUE;CN="Robert 
 D. sauer":https://www.southeastwheelsevents.com/profile/RobertDsauer
ATTENDEE;ROLE=REQ-PARTICIPANT;PARTSTAT=TENTATIVE;RSVP=TRUE;CN="Robert 
 Gates":https://www.southeastwheelsevents.com/profile/RobertGates
ATTENDEE;ROLE=REQ-PARTICIPANT;PARTSTAT=TENTATIVE;RSVP=TRUE;CN="Jeffrey
  Rutherford":https://www.southeastwheelsevents.com/profile/JeffreyRuth
 erford866
END:VEVENT
END:VCALENDAR
